BEGIN:VCALENDAR
VERSION:2.0
PRODID:-//ChamberMaster//Event Calendar 2.0//EN
METHOD:PUBLISH
X-PUBLISHED-TTL:P3D
REFRESH-INTERVAL:P3D
CALSCALE:GREGORIAN
BEGIN:VEVENT
DTSTART:20180627T233000Z
DTEND:20180628T010000Z
X-MICROSOFT-CDO-ALLDAYEVENT:FALSE
SUMMARY:WORLD WITHOUT ORPHANS BIKE TOUR
DESCRIPTION:Join us as we stop in Southaven\, Mississippi as part of our USA Bike Tour from LA to Miami! Gennadiy and his boys began riding in 2011 to raise awareness about the orphan crisis and promote adoption. Today\, they have completed routes across Asia and Europe and only lack North American to complete their tour around the world! So far\, thousands of children have been placed into forever families as a result of their efforts. \n\n\n\nLearn more about Gennadiy's Story: https://soworldwide.org/2014/05/14/film-a-story-of-rescue/\n\n\n\nLearn more about the entire tour\, schedule\, etc...\n\nhttps://soworldwide.org/2018-bike-ride/\n\n\n\nCheck out the Facebook event page: \n\n\n\nhttps://www.facebook.com/events/173816193174690/\n\n\n\nCorporate Sponsor:\n\nEXPRESS EMPLOYMENT PROFESSIONALS\n\n\n\nTN Regional Sponsors: \n\nFIRST TENNESSEE BANK \n\nF & F CONSTRUCTION
X-ALT-DESC;FMTTYPE=text/html:<span style="color:rgb(29\, 33\, 41)\; font-family:helvetica\,arial\,sans-serif\; font-size:14px">Join us as we stop in Southaven\, Mississippi as part of our USA Bike Tour from LA to Miami! Gennadiy and his boys began riding in 2011 to raise awareness about the orphan crisis and promote adoption. Today\, they have completed routes across Asia and Europe and only lack North American to complete their tour around the world! So far\, thousands of children have been placed into forever families as a result of their efforts.&nbsp\;</span><br />\n<br />\n<span style="color:rgb(29\, 33\, 41)\; font-family:helvetica\,arial\,sans-serif\; font-size:14px">Learn more about Gennadiy&#39\;s Story:&nbsp\;</span><a href="https://l.facebook.com/l.php?u=https%3A%2F%2Fsoworldwide.org%2F2014%2F05%2F14%2Ffilm-a-story-of-rescue%2F&amp\;h=ATME-mTEZyxmv4_DoZRC0IEHYJYbCTWQO_-e_F7Xn_dmJrU-bUMMsyNrrRFoN_XKfB4vV87DVix5jxCq_xM06jXPa8Ji4PveTodIezwIgmjT0YqLmg&amp\;s=1" style="color: rgb(54\, 88\, 153)\; cursor: pointer\; text-decoration-line: none\; font-family: Helvetica\, Arial\, sans-serif\; font-size: 14px\;" target="_blank">https://soworldwide.org/2014/05/14/film-a-story-of-rescue/</a><br />\n<br />\n<span style="color:rgb(29\, 33\, 41)\; font-family:helvetica\,arial\,sans-serif\; font-size:14px">Learn more about the entire tour\, schedule\, etc...</span><br />\n<a href="https://l.facebook.com/l.php?u=https%3A%2F%2Fsoworldwide.org%2F2018-bike-ride%2F&amp\;h=ATM6Nwx7yA7hIjWLTEW3GqVBQB_Oqsj9d-gPDDdkzGuVGK_Gm40uR4OaC68RtaFjbYiSFqg7Fcz-Wo-bDFSe4OORv2BlIR1LhAVDbuwXjQPmMaFrWQ&amp\;s=1" style="color: rgb(54\, 88\, 153)\; cursor: pointer\; text-decoration-line: none\; font-family: Helvetica\, Arial\, sans-serif\; font-size: 14px\;" target="_blank">https://soworldwide.org/2018-bike-ride/</a><br />\n<br />\nCheck out the Facebook event page:&nbsp\;<br />\n<br />\n<a href="https://www.facebook.com/events/173816193174690/">https://www.facebook.com/events/173816193174690/</a><br />\n<br />\nCorporate Sponsor:<br />\nEXPRESS EMPLOYMENT PROFESSIONALS<br />\n<br />\nTN Regional Sponsors:&nbsp\;<br />\nFIRST TENNESSEE BANK&nbsp\;<br />\nF &amp\; F CONSTRUCTION<br />\n<br />\n&nbsp\;
LOCATION:Cornerstone Church 5998 Elmore Rd. Southaven\, MS 38671
UID:e.512.8339
SEQUENCE:3
DTSTAMP:20260425T192856Z
URL:https://southavenchamber-mosaic-gzcms.preview.gochambermaster.com/events/details/world-without-orphans-bike-tour-8339
END:VEVENT

END:VCALENDAR
