BEGIN:VCALENDAR
VERSION:2.0
PRODID:-//ChamberMaster//Event Calendar 2.0//EN
METHOD:PUBLISH
X-PUBLISHED-TTL:P3D
REFRESH-INTERVAL:P3D
CALSCALE:GREGORIAN
BEGIN:VEVENT
DTSTART:20230426T163000Z
DTEND:20230426T180000Z
X-MICROSOFT-CDO-ALLDAYEVENT:FALSE
SUMMARY:Women in Business Luncheon - 2023 (4/26)
DESCRIPTION:Women in Business Luncheon\, 11:30AM - 1PM\, Landers Center\, 4560 Venture Dr.\, Southaven\, MS 38671: Join us for our 4th annual Women in Business Luncheon sponsored by Community Bank! Invite your co-workers and friends for a woman empowering lunch or treat the ladies in your office!
X-ALT-DESC;FMTTYPE=text/html:<strong><span style="font-family:tahoma\,sans-serif\;"><span style="font-size:16.0pt\;">Women in Business Luncheon\, 11:30AM - 1PM\, Landers Center\, 4560 Venture Dr.\, Southaven\, MS 38671:</span></span></strong><span style="font-family:tahoma\,sans-serif\;"><span style="font-size:16.0pt\;"> Join us for our 4th annual Women in Business Luncheon sponsored by Community Bank! Invite your co-workers and friends for a woman empowering lunch or treat the ladies in your office!</span></span>
LOCATION:Landers Center 4560 Venture Dr. Southaven\, MS 38671
UID:e.512.18195
SEQUENCE:3
DTSTAMP:20260420T052156Z
URL:https://southavenchamber-mosaic-gzcms.preview.gochambermaster.com/events/details/women-in-business-luncheon-2023-4-26-18195
END:VEVENT

END:VCALENDAR
