BEGIN:VCALENDAR
VERSION:2.0
PRODID:-//ChamberMaster//Event Calendar 2.0//EN
METHOD:PUBLISH
X-PUBLISHED-TTL:P3D
REFRESH-INTERVAL:P3D
CALSCALE:GREGORIAN
BEGIN:VEVENT
DTSTART:20220427T163000Z
DTEND:20220427T180000Z
X-MICROSOFT-CDO-ALLDAYEVENT:FALSE
SUMMARY:Women in Business Luncheon - 2022 (04/27)
DESCRIPTION:Women In Business Luncheon\, 11:30AM - 1PM\, Landers Center\, 4560 Venture Dr.\, Southaven\, MS 38671: Join us for our 3rd annual Women in Business Luncheon sponsored by Community Bank! There will be a panel discussing women in leadership. Invite your co-workers and friends for a woman empowering lunch or treat the ladies in your office for Administrative Professionals Day!
X-ALT-DESC;FMTTYPE=text/html:<strong><span style="font-family:tahoma\,sans-serif\;"><span style="font-size:16.0pt\;">Women In Business Luncheon\, 11:30AM - 1PM\, Landers Center\, 4560 Venture Dr.\, Southaven\, MS 38671:</span></span></strong><span style="font-family:tahoma\,sans-serif\;"><span style="font-size:16.0pt\;"> Join us for our 3rd annual Women in Business Luncheon sponsored by Community Bank! There will be a panel discussing women in leadership. Invite your co-workers and friends for a woman empowering lunch or treat the ladies in your office for Administrative Professionals Day!</span></span>
LOCATION:Landers Center 4560 Venture Dr. Southaven\, MS 38671
UID:e.512.17205
SEQUENCE:3
DTSTAMP:20260421T170624Z
URL:https://southavenchamber-mosaic-gzcms.preview.gochambermaster.com/events/details/women-in-business-luncheon-2022-04-27-17205
END:VEVENT

END:VCALENDAR
