BEGIN:VCALENDAR
VERSION:2.0
PRODID:-//ChamberMaster//Event Calendar 2.0//EN
METHOD:PUBLISH
X-PUBLISHED-TTL:P3D
REFRESH-INTERVAL:P3D
CALSCALE:GREGORIAN
BEGIN:VEVENT
DTSTART:20171202T010000Z
DTEND:20171202T023000Z
X-MICROSOFT-CDO-ALLDAYEVENT:FALSE
SUMMARY:WINE\, WOMEN & WELLNESS
DESCRIPTION:Wine\, Jewelry\, Skincare\, Make-up\, Clothing\, Weight Loss\, Spinal Screenings and more! \n\n\n\nAlso\, enter for your chance to win door prizes!
X-ALT-DESC;FMTTYPE=text/html:Wine\, Jewelry\, Skincare\, Make-up\, Clothing\, Weight Loss\, Spinal Screenings and more!&nbsp\;<br />\n<br />\nAlso\, enter for your chance to win door prizes!&nbsp\;
LOCATION:DeSoto County Chiropractic 1134 Church Rd W Southaven\, MS 38671
UID:e.512.5635
SEQUENCE:3
DTSTAMP:20260426T031800Z
URL:https://southavenchamber-mosaic-gzcms.preview.gochambermaster.com/events/details/wine-women-wellness-5635
END:VEVENT

END:VCALENDAR
