BEGIN:VCALENDAR
VERSION:2.0
PRODID:-//ChamberMaster//Event Calendar 2.0//EN
METHOD:PUBLISH
X-PUBLISHED-TTL:P3D
REFRESH-INTERVAL:P3D
CALSCALE:GREGORIAN
BEGIN:VEVENT
DTSTART:20220521T140000Z
DTEND:20220521T210000Z
X-MICROSOFT-CDO-ALLDAYEVENT:FALSE
SUMMARY:Wedding Planning Open House
DESCRIPTION:Meet the head planner/designer\, share your vision for your big day\, learn our planning/design process\, get expert advice and more!\n\n\n\nWe want each bride/couple to get our undivided attention\, therefore only one couple per timeslot.\n\n\n\nTimeslots are limited\, so click HERE to book TODAY!\n\n\n\nAddress will be sent via email after booking!
X-ALT-DESC;FMTTYPE=text/html:Meet the head planner/designer\, share your vision for your big day\, learn our planning/design process\, get expert advice and more!<br />\n<br />\nWe want each bride/couple to get our undivided attention\, therefore only one couple per timeslot.<br />\n<br />\nTimeslots are limited\, so click <a href="http://calendly.com/meetwithepicevents"><strong>HERE</strong></a> to book TODAY!<br />\n<br />\nAddress will be sent via email after booking!
LOCATION:
UID:e.512.17264
SEQUENCE:3
DTSTAMP:20260421T103825Z
URL:https://southavenchamber-mosaic-gzcms.preview.gochambermaster.com/events/details/wedding-planning-open-house-17264
END:VEVENT

END:VCALENDAR
