BEGIN:VCALENDAR
VERSION:2.0
PRODID:-//ChamberMaster//Event Calendar 2.0//EN
METHOD:PUBLISH
X-PUBLISHED-TTL:P3D
REFRESH-INTERVAL:P3D
CALSCALE:GREGORIAN
BEGIN:VEVENT
DTSTART:20200919T140000Z
DTEND:20200919T180000Z
X-MICROSOFT-CDO-ALLDAYEVENT:FALSE
SUMMARY:Vitalant Blood Drive at Total Fitness Kickboxing!
DESCRIPTION:Please donate blood if you can!\n\n\n\nSign up online or call Matthew Montgomery for more information! 901.237.6748\n\nhttps://clublifeblood.us/index.cfm?group=op&expand=943458&zc=38672
X-ALT-DESC;FMTTYPE=text/html:Please donate blood if you can!<br />\n<br />\nSign up online or call Matthew Montgomery for more information! 901.237.6748<br />\n<a href="https://clublifeblood.us/index.cfm?group=op&amp\;expand=943458&amp\;zc=38672">https://clublifeblood.us/index.cfm?group=op&amp\;expand=943458&amp\;zc=38672</a><br />\n&nbsp\;
LOCATION:Total Fitness Kickboxing 5915 Getwell Road Ste. 1 Southaven\, MS 38672
UID:e.512.16507
SEQUENCE:3
DTSTAMP:20260423T133655Z
URL:https://southavenchamber-mosaic-gzcms.preview.gochambermaster.com/events/details/vitalant-blood-drive-at-total-fitness-kickboxing-16507
END:VEVENT

END:VCALENDAR
