BEGIN:VCALENDAR
VERSION:2.0
PRODID:-//ChamberMaster//Event Calendar 2.0//EN
METHOD:PUBLISH
X-PUBLISHED-TTL:P3D
REFRESH-INTERVAL:P3D
CALSCALE:GREGORIAN
BEGIN:VEVENT
DTSTART:20200822T150000Z
DTEND:20200822T190000Z
X-MICROSOFT-CDO-ALLDAYEVENT:FALSE
SUMMARY:Vitalant Blood Drive at Lowe's
DESCRIPTION:Please go to Vitalant.org to sign-up.
X-ALT-DESC;FMTTYPE=text/html:Please go to <a href="http://Vitalant.org">Vitalant.org</a> to sign-up.
LOCATION:Lowes Southaven 178 Goodman Road West Southaven\, MS 38671
UID:e.512.16240
SEQUENCE:3
DTSTAMP:20260423T170535Z
URL:https://southavenchamber-mosaic-gzcms.preview.gochambermaster.com/events/details/vitalant-blood-drive-at-lowe-s-16240
END:VEVENT

END:VCALENDAR
