BEGIN:VCALENDAR
VERSION:2.0
PRODID:-//ChamberMaster//Event Calendar 2.0//EN
METHOD:PUBLISH
X-PUBLISHED-TTL:P3D
REFRESH-INTERVAL:P3D
CALSCALE:GREGORIAN
BEGIN:VEVENT
DTSTART:20190216T010000Z
DTEND:20190216T030000Z
X-MICROSOFT-CDO-ALLDAYEVENT:FALSE
SUMMARY:Valentines Dine n Paint
DESCRIPTION:Join us for our 7th annual Dine and Paint! We will have a delicious catered meal and painting for 2. No lines no waits! A nice relaxing night for you and your favorite person! Only taking 14 couples so be sure to get your seats in advance!
X-ALT-DESC;FMTTYPE=text/html:Join us for our 7th annual Dine and Paint! We will have a delicious catered meal and painting for 2. No lines no waits! A nice relaxing night for you and your favorite person! Only taking 14 couples so be sure to get your seats in advance!
LOCATION:Let's Paint 3332 Goodman Rd E Southaven Ms 38672
UID:e.512.12262
SEQUENCE:3
DTSTAMP:20260424T224739Z
URL:https://southavenchamber-mosaic-gzcms.preview.gochambermaster.com/events/details/valentines-dine-n-paint-12262
END:VEVENT

END:VCALENDAR
