BEGIN:VCALENDAR
VERSION:2.0
PRODID:-//ChamberMaster//Event Calendar 2.0//EN
METHOD:PUBLISH
X-PUBLISHED-TTL:P3D
REFRESH-INTERVAL:P3D
CALSCALE:GREGORIAN
BEGIN:VEVENT
DTSTART:20200225T143000Z
DTEND:20200226T213000Z
X-MICROSOFT-CDO-ALLDAYEVENT:FALSE
SUMMARY:Two-Day Sales Workshop
DESCRIPTION:This two-day workshop will focus on the development of behaviors\, attitudes\, and techniques among top-selling producers using the Sandler Training methodologies and tactics. Participants will learn how to better control their selling process by increasing qualified prospect meetings\, shortening the selling cycle\, increasing margins\, and narrowing closing ratios.
X-ALT-DESC;FMTTYPE=text/html:<span style="color:rgb(69\, 90\, 100)\; font-family:helvetica\,arial\,sans-serif\; font-size:24px">This two-day workshop will focus on the development of behaviors\, attitudes\, and techniques among top-selling producers using the Sandler Training methodologies and tactics. Participants will learn how to better control their selling process by increasing qualified prospect meetings\, shortening the selling cycle\, increasing margins\, and narrowing closing ratios. </span>
LOCATION:Sandler Training 5350 Poplar Ave\, Suite 550 Memphis\, TN 38119
UID:e.512.16002
SEQUENCE:3
DTSTAMP:20260424T013910Z
URL:https://southavenchamber-mosaic-gzcms.preview.gochambermaster.com/events/details/two-day-sales-workshop-16002
END:VEVENT

END:VCALENDAR
