BEGIN:VCALENDAR
VERSION:2.0
PRODID:-//ChamberMaster//Event Calendar 2.0//EN
METHOD:PUBLISH
X-PUBLISHED-TTL:P3D
REFRESH-INTERVAL:P3D
CALSCALE:GREGORIAN
BEGIN:VEVENT
DTSTART:20180726T190000Z
DTEND:20180726T220000Z
X-MICROSOFT-CDO-ALLDAYEVENT:FALSE
SUMMARY:Thoughtful Thursday benefiting the Mid-South Food Bank
DESCRIPTION:Join US Thursday 07/26/2018\n\n@ 775 Goodman Rd at the Allstate Tent\, from 2:00-5:00 PM\n\nwith our Good Hands Partners\n\nTotal Fitness Kickboxing.\n\nWe are partnering to make a difference in our community. All donations benefit the Mid-South Food Bank.\n\nEvery person donating non-perishable items will receive a \n\nfree week of  Kickboxing in both the Olive Branch and Southaven Location.
X-ALT-DESC;FMTTYPE=text/html:<span style="color:black"><span style="font-size:16.0pt">Join US Thursday 07/26/2018</span></span><br />\n<span style="color:black">@ </span><span style="color:black"><span style="font-size:14.0pt">775 Goodman Rd at the Allstate Tent\, from 2:00-5:00 PM</span></span><br />\n<span style="color:black"><span style="font-size:14.0pt">with our Good Hands Partners</span></span><br />\n<span style="color:red"><span style="font-size:18.0pt">Total Fitness Kickboxing</span></span><span style="color:black"><span style="font-size:14.0pt">.</span></span><br />\n<span style="font-size:18px">We are partnering to make a difference in our community. All donations benefit the Mid-South Food Bank.</span><br />\n<span style="color:black"><span style="font-size:14.0pt">Every person donating non-perishable&nbsp\;items will receive a&nbsp\;<br />\n<u>free week</u> of&nbsp\; Kickboxing in both the Olive Branch and Southaven Location.</span></span>
LOCATION:Dean Agency 775 Goodman Rd E Ste 29 Southaven\, MS 38671
UID:e.512.8573
SEQUENCE:3
DTSTAMP:20260425T180831Z
URL:https://southavenchamber-mosaic-gzcms.preview.gochambermaster.com/events/details/thoughtful-thursday-benefiting-the-mid-south-food-bank-8573
END:VEVENT

END:VCALENDAR
