BEGIN:VCALENDAR
VERSION:2.0
PRODID:-//ChamberMaster//Event Calendar 2.0//EN
METHOD:PUBLISH
X-PUBLISHED-TTL:P3D
REFRESH-INTERVAL:P3D
CALSCALE:GREGORIAN
BEGIN:VEVENT
DTSTART;VALUE=DATE:20190115
DTEND;VALUE=DATE:20190330
TRANSP:TRANSPARENT
X-MICROSOFT-CDO-ALLDAYEVENT:TRUE
SUMMARY:Teacher of the Year Nominations
DESCRIPTION:Follow the Link:\n\nhttps://goo.gl/forms/NizyAxLi9FkAb2aD2\n\nTeachers nominated must be from schools in the following Mississippi cities: \n\nSouthaven\, Horn Lake\, Hernando\, Walls\, Lake Cormorant  \n\nDeadline for nominations is March 29\, 2019\n\nWinners will awarded during the month of April 2019 \n\nEmail any questions to dalexander.cfa@gmail.com
X-ALT-DESC;FMTTYPE=text/html:<span style="font-family:apercu"><span style="font-size:14.0pt">Follow the Link:</span></span><br />\n<span style="font-size:18.6667px"><span style="font-family:apercu">https://goo.gl/forms/NizyAxLi9FkAb2aD2</span></span><br />\n<span style="font-family:apercu"><span style="font-size:14.0pt">Teachers nominated must be from schools in the following Mississippi cities: </span></span><br />\n<span style="font-family:apercu"><span style="font-size:14.0pt">Southaven\, Horn Lake\, Hernando\, Walls\, Lake Cormorant&nbsp\; </span></span><br />\n<span style="font-family:apercu"><span style="font-size:14.0pt">Deadline for nominations is March 29\, 2019</span></span><br />\n<span style="font-family:apercu"><span style="font-size:14.0pt">Winners will awarded during the month of April 2019 </span></span><br />\n<span style="font-family:apercu"><span style="font-size:14.0pt">Email any questions to dalexander.cfa@gmail.com&nbsp\; </span></span><br />\n&nbsp\;
LOCATION:Chick-fil-A Southaven 235 Goodman Road Southaven MS 38671
UID:e.512.12269
SEQUENCE:3
DTSTAMP:20260424T212804Z
URL:https://southavenchamber-mosaic-gzcms.preview.gochambermaster.com/events/details/teacher-of-the-year-nominations-12269
END:VEVENT

END:VCALENDAR
