BEGIN:VCALENDAR
VERSION:2.0
PRODID:-//ChamberMaster//Event Calendar 2.0//EN
METHOD:PUBLISH
X-PUBLISHED-TTL:P3D
REFRESH-INTERVAL:P3D
CALSCALE:GREGORIAN
BEGIN:VEVENT
DTSTART:20210910T170000Z
DTEND:20210910T210000Z
X-MICROSOFT-CDO-ALLDAYEVENT:FALSE
SUMMARY:Tanger Outlets Job Fair
DESCRIPTION:Tanger Outlets Southaven will host a Job Fair event on September 10th! We are inviting our retailers\, as well as outside businesses\, to participate in setting up a table activation to secure applicants.  Businesses can visit with potential candidates\, hand out applications\, schedule interviews and conduct preliminary job screenings while also promoting your brand to the built-in foot traffic Tanger Outlets provides on a busy Friday afternoon.  The Job Fair will be promoted through onsite signage\, boosted social posts to our followers\, event posts on FaceBook\, released to the media for local coverage\, and on business partners websites. Event sponsorships are available. Please contact Mandi Johnson at mandi.johnson@tangeroutlets.com\, for more information.
X-ALT-DESC;FMTTYPE=text/html:Tanger Outlets Southaven will host a Job Fair event on September 10th! We are inviting our retailers\, as well as outside businesses\, to participate in setting up a table activation to secure applicants.&nbsp\; Businesses can visit with potential candidates\, hand out applications\, schedule interviews and conduct preliminary job screenings while also promoting your brand to the built-in foot traffic Tanger Outlets provides on a busy Friday afternoon.&nbsp\; The Job Fair will be promoted through onsite signage\, boosted social posts to our followers\, event posts on FaceBook\, released to the media for local coverage\, and on business partners websites. Event sponsorships are available. Please contact Mandi Johnson at mandi.johnson@tangeroutlets.com\, for more information.
LOCATION:5205 Airways Blvd. Southaven\, MS 38671
UID:e.512.17080
SEQUENCE:3
DTSTAMP:20260422T142524Z
URL:https://southavenchamber-mosaic-gzcms.preview.gochambermaster.com/events/details/tanger-outlets-job-fair-17080
END:VEVENT

END:VCALENDAR
