BEGIN:VCALENDAR
VERSION:2.0
PRODID:-//ChamberMaster//Event Calendar 2.0//EN
METHOD:PUBLISH
X-PUBLISHED-TTL:P3D
REFRESH-INTERVAL:P3D
CALSCALE:GREGORIAN
BEGIN:VEVENT
DTSTART:20230915T170000Z
DTEND:20230915T210000Z
X-MICROSOFT-CDO-ALLDAYEVENT:FALSE
SUMMARY:TANGER JOB FAIR
DESCRIPTION:Tanger Outlets is hosting a job fair on September 15\, 2023\, NOON to 4pm. Attendees cand expect a wide variety of job opportunities across different industries\, making it an unmissable event for anyone seeking career growth and new prospects. \n\nTanger's goal is to support the community and foster economic growth\, and what better way to achieve that than by matching qualified candidates with the right job opportunities? By joining forces we can make a significant impact and empower individuals to pursue their professional aspirations. \n\nIf your business would like to participate in this job fair\, please reach out to Aaron Crabb\, aaron.crabb@tanger.com for further details.
X-ALT-DESC;FMTTYPE=text/html:Tanger Outlets is hosting a job fair on September 15\, 2023\, NOON to 4pm. Attendees cand expect a wide variety of job opportunities across different industries\, making it an unmissable event for anyone seeking career growth and new prospects.&nbsp\;<br />\nTanger&#39\;s goal is to support the community and foster economic growth\, and what better way to achieve that than by matching qualified candidates with the right job opportunities? By joining forces we can make a significant impact and empower individuals to pursue their professional aspirations.&nbsp\;<br />\nIf your business would like to participate in this job fair\, please reach out to Aaron Crabb\, <a href="http://aaron.crabb@tanger.com">aaron.crabb@tanger.com</a> for further details.&nbsp\;
LOCATION:Tanger Outlets 5205 Airways Blvd Southaven\, MS 38671
UID:e.512.18821
SEQUENCE:3
DTSTAMP:20260419T161802Z
URL:https://southavenchamber-mosaic-gzcms.preview.gochambermaster.com/events/details/tanger-job-fair-18821
END:VEVENT

END:VCALENDAR
