BEGIN:VCALENDAR
VERSION:2.0
PRODID:-//ChamberMaster//Event Calendar 2.0//EN
METHOD:PUBLISH
X-PUBLISHED-TTL:P3D
REFRESH-INTERVAL:P3D
CALSCALE:GREGORIAN
BEGIN:VEVENT
DTSTART:20200716T210000Z
DTEND:20200716T230000Z
X-MICROSOFT-CDO-ALLDAYEVENT:FALSE
SUMMARY:SYP & Social - 2020 (07/16) CANCELED
DESCRIPTION:This event is canceled. Stay tuned for a virtual event and future events!
X-ALT-DESC;FMTTYPE=text/html:<font face="arial\, sans-serif"><span style="font-size: 13.3333px\;">This event is canceled. Stay tuned for a virtual event and future events!</span></font>
LOCATION:Buffalo Wild Wings 7188 Airways Blvd. #2 Southaven\, MS 38671
UID:e.512.16045
SEQUENCE:3
DTSTAMP:20260423T184823Z
URL:https://southavenchamber-mosaic-gzcms.preview.gochambermaster.com/events/details/syp-social-2020-07-16-canceled-16045
END:VEVENT

END:VCALENDAR
