BEGIN:VCALENDAR
VERSION:2.0
PRODID:-//ChamberMaster//Event Calendar 2.0//EN
METHOD:PUBLISH
X-PUBLISHED-TTL:P3D
REFRESH-INTERVAL:P3D
CALSCALE:GREGORIAN
BEGIN:VEVENT
DTSTART:20200618T210000Z
DTEND:20200618T230000Z
X-MICROSOFT-CDO-ALLDAYEVENT:FALSE
SUMMARY:SYP & Social
DESCRIPTION:Join the Southaven Young Professionals for SYP & Social After Hours\, Thursday\, June 18th from 4pm-6pm. Enjoy a night at the Southaven Chamber with drinks\, music and networking! This is a great networking opportunity for you to meet with other young professionals in the Mid-South. Bring business cards and invite a colleague!\n\n\n\nThank you to A&B and Buffalo Wild Wings - Southaven for sponsoring this event!
X-ALT-DESC;FMTTYPE=text/html:<span style="color: rgb(29\, 33\, 41)\; font-family: Helvetica\, Arial\, sans-serif\; font-size: 14px\; white-space: pre-wrap\;">Join the Southaven Young Professionals for SYP &amp\; Social After Hours\, Thursday\, June 18th from 4pm-6pm. Enjoy a night at the Southaven Chamber with drinks\, music and networking! This is a great networking opportunity for you to meet with other young professionals in the Mid-South. Bring business cards and invite a colleague!<br />\n<br />\nThank you to A&amp\;B and Buffalo Wild Wings - Southaven for sponsoring this event!</span>
LOCATION:Southaven Chamber of Commerce 500 Main Street Southaven\, MS 38632
UID:e.512.16044
SEQUENCE:3
DTSTAMP:20260423T170542Z
URL:https://southavenchamber-mosaic-gzcms.preview.gochambermaster.com/events/details/syp-social-16044
END:VEVENT

END:VCALENDAR
