BEGIN:VCALENDAR
VERSION:2.0
PRODID:-//ChamberMaster//Event Calendar 2.0//EN
METHOD:PUBLISH
X-PUBLISHED-TTL:P3D
REFRESH-INTERVAL:P3D
CALSCALE:GREGORIAN
BEGIN:VEVENT
DTSTART:20190627T210000Z
DTEND:20190627T230000Z
X-MICROSOFT-CDO-ALLDAYEVENT:FALSE
SUMMARY:SYP Coffee Social
DESCRIPTION:Stop by and have a cup of coffee while meeting the officers of the Southaven Young Professionals
X-ALT-DESC;FMTTYPE=text/html:Stop by and have a cup of coffee while meeting the officers of the Southaven Young Professionals&nbsp\;&nbsp\;&nbsp\;&nbsp\;
LOCATION:Coffee Central 5627 Getwell Road
UID:e.512.12464
SEQUENCE:3
DTSTAMP:20260424T185743Z
URL:https://southavenchamber-mosaic-gzcms.preview.gochambermaster.com/events/details/syp-coffee-social-12464
END:VEVENT

END:VCALENDAR
