BEGIN:VCALENDAR
VERSION:2.0
PRODID:-//ChamberMaster//Event Calendar 2.0//EN
METHOD:PUBLISH
X-PUBLISHED-TTL:P3D
REFRESH-INTERVAL:P3D
CALSCALE:GREGORIAN
BEGIN:VEVENT
DTSTART:20191206T233000Z
DTEND:20191207T013000Z
X-MICROSOFT-CDO-ALLDAYEVENT:FALSE
SUMMARY:Supper Club
DESCRIPTION:Supper Club is a social club for young adults who could use a little help socializing with peers.  This is an opportunity to meet with a small group in a low pressure setting.
X-ALT-DESC;FMTTYPE=text/html:Supper Club is a social club for young adults who could use a little help socializing with peers.&nbsp\; This is an opportunity to meet with a small group in a low pressure setting.
LOCATION:Pleasant Hill United Methodist Church 3787 Pleasant Hill Road Olive Branch\, MS 38654
UID:e.512.15606
SEQUENCE:3
DTSTAMP:20260424T071238Z
URL:https://southavenchamber-mosaic-gzcms.preview.gochambermaster.com/events/details/supper-club-12-06-2019-15606
END:VEVENT

END:VCALENDAR
