BEGIN:VCALENDAR
VERSION:2.0
PRODID:-//ChamberMaster//Event Calendar 2.0//EN
METHOD:PUBLISH
X-PUBLISHED-TTL:P3D
REFRESH-INTERVAL:P3D
CALSCALE:GREGORIAN
BEGIN:VEVENT
DTSTART:20210918T150000Z
DTEND:20210918T220000Z
X-MICROSOFT-CDO-ALLDAYEVENT:FALSE
SUMMARY:St. Jude North Creek Open
DESCRIPTION:The St. Jude North Creek Open will tee off for the first time at North Creek Golf Club . This tournament is a 4-Man Scramble in that will benefit the life-saving work of doctors who help the patients of St. Jude Children's Research Hospital. The tournament will include on-course prizes for Accurate Drive\, Closest to the Pin\, Longest Drive\, and a putting contest while making the turn.\n\n \n\nThe tournament will be scored in two flights with the top two teams from each flight winning prizes. \n\n \n\nAll Players will receive food catered on behalf of the Southaven Chick-fil-A \, gift bags\, and a complimentary round of golf for entering and playing For the Kids (free round valid only for Monday   Friday)\n\n \n\nEntry fees are $100 per player or $400 per team\, and the max capacity will be 31 teams.\n\n \n\nSign-up sheets are available in the pro shop\, all forms are due by September 12th.
X-ALT-DESC;FMTTYPE=text/html:<p>The St. Jude North Creek Open will tee off for the first time at North Creek Golf Club&reg\;. This tournament is a 4-Man Scramble in that will benefit the life-saving work of doctors who help the patients of St. Jude Children&#39\;s Research Hospital. The tournament will include on-course prizes for Accurate Drive\, Closest to the Pin\, Longest Drive\, and a putting contest while making the turn.</p>\n\n<p><strong>&nbsp\;</strong></p>\n\n<p>The tournament will be scored in two flights with the top two teams from each flight winning prizes.&nbsp\;</p>\n\n<p><strong>&nbsp\;</strong></p>\n\n<p>All Players will receive food catered on behalf of the Southaven Chick-fil-A&trade\;\, gift bags\, and a complimentary round of golf for entering and playing For the Kids (free round valid only for Monday &ndash\; Friday)</p>\n\n<p><strong>&nbsp\;</strong></p>\n\n<p>Entry fees are $100 per player or $400 per team\, and the max capacity will be 31 teams.</p>\n\n<p><strong>&nbsp\;</strong></p>\n\n<p>Sign-up sheets are available in the pro shop\, all forms are due by September 12th.</p>\n\n<p>&nbsp\;</p>\n
LOCATION:North Creek Golf Club 8770 North Creek Blvd Southaven\, MS 38671
UID:e.512.17081
SEQUENCE:3
DTSTAMP:20260422T142524Z
URL:https://southavenchamber-mosaic-gzcms.preview.gochambermaster.com/events/details/st-jude-north-creek-open-17081
END:VEVENT

END:VCALENDAR
