BEGIN:VCALENDAR
VERSION:2.0
PRODID:-//ChamberMaster//Event Calendar 2.0//EN
METHOD:PUBLISH
X-PUBLISHED-TTL:P3D
REFRESH-INTERVAL:P3D
CALSCALE:GREGORIAN
BEGIN:VEVENT
DTSTART;VALUE=DATE:20190423
DTEND;VALUE=DATE:20190428
TRANSP:TRANSPARENT
X-MICROSOFT-CDO-ALLDAYEVENT:TRUE
SUMMARY:Southaven Springfest
DESCRIPTION:The City of Southaven will celebrate 39 Years of Southaven by hosting Southaven Springfest 2019.  Awesome entertainment is planned for this year at the BankPlus Amphitheater at Snowden Grove!
X-ALT-DESC;FMTTYPE=text/html:<span style="font-family:arial\;"><span style="margin: 0px\; color: black\; font-size: 12pt\;">The City of Southaven will celebrate 39 Years of Southaven by hosting Southaven Springfest 2019.<span style="margin: 0px\;">&nbsp\; </span>Awesome entertainment is planned for this year at the BankPlus Amphitheater at Snowden Grove!</span></span>
LOCATION:Snowden Grove Park 6450 Getwell Road Southaven\, MS 38672
UID:e.512.11625
SEQUENCE:3
DTSTAMP:20260424T200838Z
URL:https://southavenchamber-mosaic-gzcms.preview.gochambermaster.com/events/details/southaven-springfest-04-23-2019-11625
END:VEVENT

END:VCALENDAR
