BEGIN:VCALENDAR
VERSION:2.0
PRODID:-//ChamberMaster//Event Calendar 2.0//EN
METHOD:PUBLISH
X-PUBLISHED-TTL:P3D
REFRESH-INTERVAL:P3D
CALSCALE:GREGORIAN
BEGIN:VEVENT
DTSTART:20180225T140000Z
DTEND:20180225T220000Z
X-MICROSOFT-CDO-ALLDAYEVENT:FALSE
SUMMARY:Soup Sunday Volunteers Needed
DESCRIPTION:In light of the many needs of our youth\, Le Dujour HERO Village feels it is essential to improve support for organizations that work to provide interventions for high risk youth. We are doing our part to coordinate the Kids' Area for Youth Villages' Soup Sunday fundraiser. On Feb. 25\, 2018\, we are in need of volunteers to donate time (in any area) and/or provide desserts (for the Kids' Area).  \n\n \nYouth Villages and HERO Village believe that no child is a lost cause\n\nand we welcome your support. \n\nVisit herovillage.org to donate time and/or desserts.\n\nSign up as a volunteer with the organization Le Dujour HERO Village.
X-ALT-DESC;FMTTYPE=text/html:<span style="font-size:14px"><span style="font-family:tahoma">In light of the many needs of our youth\, Le Dujour HERO Village feels it is essential to improve support for organizations that work to provide interventions for high risk youth. We are doing our part to coordinate the Kids&#39\; Area for Youth Villages&#39\; Soup Sunday fundraiser. On Feb. 25\, 2018\, we are in need of volunteers to donate time (in any area) and/or provide desserts (for the Kids&#39\; Area).&nbsp\; </span></span><br />\n&nbsp\;\n<div style="text-align:center"><span style="font-size:14px"><span style="font-family:tahoma">Youth Villages and HERO Village believe that no child is a lost cause<br />\nand we welcome your support.&nbsp\;<br />\n<a href="http://herovillage.org">Visit herovillage.org to donate time and/or desserts.</a><br />\nSign up as a volunteer with the organization Le Dujour HERO Village.</span></span></div>\n
LOCATION:FedEx Forum
UID:e.512.6896
SEQUENCE:3
DTSTAMP:20260426T004852Z
URL:https://southavenchamber-mosaic-gzcms.preview.gochambermaster.com/events/details/soup-sunday-volunteers-6896
END:VEVENT

END:VCALENDAR
