BEGIN:VCALENDAR
VERSION:2.0
PRODID:-//ChamberMaster//Event Calendar 2.0//EN
METHOD:PUBLISH
X-PUBLISHED-TTL:P3D
REFRESH-INTERVAL:P3D
CALSCALE:GREGORIAN
BEGIN:VEVENT
DTSTART:20230613T130000Z
DTEND:20230613T140000Z
X-MICROSOFT-CDO-ALLDAYEVENT:FALSE
SUMMARY:SHRA Meeting - 2023 (6/13)
DESCRIPTION:Tuesday\, 8AM\, NWCC/Ole Miss - DeSoto\, 5197 W.E. Ross Pkwy.\, Southaven\, MS 38671:\n\nTopic: Challenges and Victories in small business leadership. How do we Grow from here? \n\nOur speaker will be Jeff Jones with My Home Ace. We will have time for open discussion as well.\n\nThank you to our 2023 Sponsors: Northwest Community College and University of Mississippi - Desoto Center\, and Beans and Leaves- Silo Square.\n\n\n\n\n\nMonthly meetings are held to explore the latest trends\, topics\, and legislation that employers face in the workplace. SHRA exists to encourage education\, involvement\, inclusion\, mentoring\, and networking for individuals responsible for human resources within any size company. This program is designed to meet the needs of small business leaders\, as well as senior level human resource practitioners and entry level practitioners who may have other responsibilities in their organization.\n\n\n\n* This event is open to SHRA members only. Membership is restricted to HR professionals and those whose work involves human resources administration\, management\, or consulting in HR issues.\n\n\n\nSHRA members are encouraged to bring a guest. Guests may attend one meeting before becoming a member. If interested in joining SHRA\, guests may request a membership application from the Southaven Chamber of Commerce by emailing info@southavenchamber.com. \n\n\n\nMembership is FREE for Southaven Chamber Members\, and $60.00 annually for Non-Members.
X-ALT-DESC;FMTTYPE=text/html:<strong><span style="color:#333333\;"><span style="font-family:tahoma\,sans-serif\;"><span style="font-size:16.0pt\;">Tuesday\, 8AM\, NWCC/Ole Miss - DeSoto\, 5197 W.E. Ross Pkwy.\, Southaven\, MS 38671:</span></span></span></strong><br />\n<strong><u><span style="color:#333333\;"><span style="font-family:tahoma\,sans-serif\;"><span style="font-size:16.0pt\;">Topic: Challenges and Victories in small business leadership. How do we Grow from here? </span></span></span></u></strong><br />\n<span style="color:#333333\;"><span style="font-family:tahoma\,sans-serif\;"><span style="font-size:16.0pt\;">Our speaker will be Jeff Jones with My Home Ace. We will have time for open discussion as well.</span></span></span><br />\n<span style="color:#333333\;"><span style="font-family:tahoma\,sans-serif\;"><span style="font-size:16.0pt\;">Thank you to our 2023 Sponsors: Northwest Community College and University of Mississippi - Desoto Center\, and Beans and Leaves- Silo Square.</span></span></span><br />\n<br />\n<br />\n<em><span style="color:#333333\;"><span style="font-family:tahoma\,sans-serif\;"><span style="font-size:10.0pt\;">Monthly meetings are held to explore the latest trends\, topics\, and legislation that employers face in the workplace. SHRA exists to encourage education\, involvement\, inclusion\, mentoring\, and networking for individuals responsible for human resources within any size company. This program is designed to meet the needs of small business leaders\, as well as senior level human resource practitioners and entry level practitioners who may have other responsibilities in their organization.</span></span></span></em><br />\n<br />\n<em><span style="color:#333333\;"><span style="font-family:arial\,sans-serif\;"><span style="font-size:9.0pt\;">* This event is open to SHRA members only. Membership is restricted to HR professionals and those whose work involves human resources administration\, management\, or consulting in HR issues.</span></span></span></em><br />\n<br />\n<em><span style="color:#333333\;"><span style="font-family:arial\,sans-serif\;"><span style="font-size:9.0pt\;"><em><span style="font-family:arial\,sans-serif\;">SHRA members are encouraged to bring a guest. Guests may attend one meeting before becoming a member. If interested in joining SHRA\, guests may request a membership application from the Southaven Chamber of Commerce by emailing <a href="mailto:info@southavenchamber.com"><span style="font-style:normal\;">info@southavenchamber.com</span></a>.&nbsp\;</span></em></span></span></span></em><br />\n<br />\n<span style="color:#333333\;"><span style="font-family:arial\,sans-serif\;"><span style="font-size:10.0pt\;"><strong><span style="font-family:arial\,sans-serif\;">Membership is FREE for Southaven Chamber Members\, and $60.00 annually for Non-Members.</span></strong></span></span></span>
LOCATION:University of Mississippi - Desoto Center 5197 W.E. Ross Pkwy. Southaven\, MS 38671
UID:e.512.18204
SEQUENCE:3
DTSTAMP:20260420T002711Z
URL:https://southavenchamber-mosaic-gzcms.preview.gochambermaster.com/events/details/shra-meeting-2023-6-13-18204
END:VEVENT

END:VCALENDAR
