BEGIN:VCALENDAR
VERSION:2.0
PRODID:-//ChamberMaster//Event Calendar 2.0//EN
METHOD:PUBLISH
X-PUBLISHED-TTL:P3D
REFRESH-INTERVAL:P3D
CALSCALE:GREGORIAN
BEGIN:VEVENT
DTSTART:20230509T130000Z
DTEND:20230509T140000Z
X-MICROSOFT-CDO-ALLDAYEVENT:FALSE
SUMMARY:SHRA Meeting - 2023 (5/9)
DESCRIPTION:SHRA Meeting\, 8AM\, NWCC/Ole Miss - DeSoto\, 5197 W.E. Ross Pkwy.\, Southaven\, MS 38671: Krista Scott\, owner of Buff City Soap\, will be our speaker this month. Krista will be sharing about building and maintaining an online presence: How to use social media platforms efficiently and professionally.\n\nThank you to our 2023 Sponsors: Northwest Community College and University of Mississippi - Desoto Center as well as our Coffee Sponsor: Beans & Leaves- Silo Square!\n\n\n\n\n\n\n\nMonthly meetings are held to explore the latest trends\, topics\, and legislation that employers face in the workplace. SHRA exists to encourage education\, involvement\, inclusion\, mentoring\, and networking for individuals responsible for human resources within any size company. This program is designed to meet the needs of small business leaders\, as well as senior level human resource practitioners and entry level practitioners who may have other responsibilities in their organization.\n\n\n\n* This event is open to SHRA members only. Membership is restricted to HR professionals and those whose work involves human resources administration\, management\, or consulting in HR issues.\n\n\n\nSHRA members are encouraged to bring a guest. Guests may attend one meeting before becoming a member. If interested in joining SHRA\, guests may request a membership application from the Southaven Chamber of Commerce by emailing info@southavenchamber.com. \n\n\n\nMembership is FREE for Southaven Chamber Members\, and $60.00 annually for Non-Members.
X-ALT-DESC;FMTTYPE=text/html:<strong><span style="font-size: 16pt\; font-family: Tahoma\, sans-serif\;">SHRA Meeting\, 8AM\, NWCC/Ole Miss - DeSoto\, 5197 W.E. Ross Pkwy.\, Southaven\, MS 38671: </span></strong><span style="font-size: 16pt\; font-family: Tahoma\, sans-serif\;">Krista Scott\, owner of Buff City Soap\, will be our speaker this month. Krista will be sharing about building and maintaining an online presence: How to use social media platforms efficiently and professionally.<br />\nThank you to our 2023 Sponsors: Northwest Community College and University of Mississippi - Desoto Center&nbsp\;</span><span style="font-family: tahoma\, sans-serif\; font-size: 21.3333px\;">as well as our Coffee Sponsor: Beans &amp\; Leaves- Silo Square!</span><br />\n<br />\n<br />\n<br />\n<em><span style="font-family: tahoma\, sans-serif\;">Monthly meetings are held to explore the latest trends\, topics\, and legislation that employers face in the workplace. SHRA exists to encourage education\, involvement\, inclusion\, mentoring\, and networking for individuals responsible for human resources within any size company. This program is designed to meet the needs of small business leaders\, as well as senior level human resource practitioners and entry level practitioners who may have other responsibilities in their organization.</span></em><br />\n<br />\n<span style="font-size: 12px\;"><em>* This event is open to SHRA members only. Membership is restricted to HR professionals and those whose work involves human resources administration\, management\, or consulting in HR issues.<br />\n<br />\nSHRA members are encouraged to bring a guest. Guests may attend one meeting before becoming a member. If interested in joining SHRA\, guests may request a membership application from the Southaven Chamber of Commerce by emailing info@southavenchamber.com.&nbsp\;</em></span><br />\n<br />\n<strong>Membership is FREE for Southaven Chamber Members\, and $60.00 annually for Non-Members.</strong>
LOCATION:University of Mississippi - Desoto Center 5197 W.E. Ross Pkwy. Southaven\, MS 38671
UID:e.512.18197
SEQUENCE:3
DTSTAMP:20260420T020849Z
URL:https://southavenchamber-mosaic-gzcms.preview.gochambermaster.com/events/details/shra-meeting-2023-5-9-18197
END:VEVENT

END:VCALENDAR
