BEGIN:VCALENDAR
VERSION:2.0
PRODID:-//ChamberMaster//Event Calendar 2.0//EN
METHOD:PUBLISH
X-PUBLISHED-TTL:P3D
REFRESH-INTERVAL:P3D
CALSCALE:GREGORIAN
BEGIN:VEVENT
DTSTART:20220201T140000Z
DTEND:20220201T150000Z
X-MICROSOFT-CDO-ALLDAYEVENT:FALSE
SUMMARY:SHRA - 2022 (02/01) Communication Strategies in a Multi-Generational Workforce
DESCRIPTION:** Meeting in-person at the Chamber\, and also available via Zoom\, if preferred. Please specify preference upon registration and a link will be sent to you if you are attending remotely.\n\n\n\nCommunication Strategies in a Multi-Generational Workforce\n\nPanel Discussion by Kim Jones\, Chick-fil-A Southaven\; Diego Lejwa\, Express Employment Pros\; and more TBA\n\n\n\nLegal update will be presented by James Harper\, Attorney\, Harper Little Law\n\n\n\nMonthly meetings are held to explore the latest trends\, topics\, and legislation that employers face in the workplace. SHRA exists to encourage education\, involvement\, inclusion\, mentoring\, and networking for individuals responsible for human resources within any size company. This program is designed to meet the needs of small business leaders\, as well as senior level human resource practitioners and entry level practitioners who may have other responsibilities in their organization.\n\n\n\n\n\n\n\n* This event is open to SHRA members only. Membership is restricted to HR professionals and those whose work involves human resources administration\, management\, or consulting in HR issues.\n\n\n\nSHRA members are encouraged to bring a guest. Guests may attend one meeting before becoming a member. If interested in joining SHRA\, guests may request a membership application from the Southaven Chamber of Commerce by emailing info@southavenchamber.com. \n\n\n\nMembership is FREE for Southaven Chamber Members\, and $60.00 annually for Non-Members.
X-ALT-DESC;FMTTYPE=text/html:<strong><span style="color:#B22222\;"><span style="font-family:tahoma\,sans-serif\;"><span style="font-size:14.0pt\;"><span style="font-size:14px\;">** Meeting in-person at the Chamber\, and also available via Zoom\, if preferred. Please specify preference upon registration and a link will be sent to you if you are attending remotely.</span></span></span></span><br />\n<br />\n<span style="font-size:22px\;"><span style="font-family:calibri\,sans-serif\;">Communication Strategies in a Multi-Generational Workforce</span></span></strong><br />\nPanel Discussion by Kim Jones\, Chick-fil-A Southaven\; Diego Lejwa\, Express Employment Pros\; and more TBA<br />\n<br />\n<span style="font-size:14px\;"><span style="color:#333333\;"><span style="font-family:tahoma\,sans-serif\;">Legal update will be presented&nbsp\;by&nbsp\;<strong>James Harper\,</strong>&nbsp\;Attorney\, Harper Little Law</span></span></span><br />\n<br />\n<em><span style="color:#333333\;"><span style="font-family:tahoma\,sans-serif\;">Monthly meetings are held to explore the latest trends\, topics\, and legislation that employers face in the workplace. SHRA exists to encourage education\, involvement\, inclusion\, mentoring\, and networking for individuals responsible for human resources within any size company. This program is designed to meet the needs of small business leaders\, as well as senior level human resource practitioners and entry level practitioners who may have other responsibilities in their organization.</span></span></em><br />\n<br />\n<br />\n<br />\n<span style="font-size: 12px\;"><em>* This event is open to SHRA members only. Membership is restricted to HR professionals and those whose work involves human resources administration\, management\, or consulting in HR issues.<br />\n<br />\nSHRA members are encouraged to bring a guest. Guests may attend one meeting before becoming a member. If interested in joining SHRA\, guests may request a membership application from the Southaven Chamber of Commerce by emailing info@southavenchamber.com.&nbsp\;</em></span><br />\n<br />\nMembership is FREE for Southaven Chamber Members\, and $60.00 annually for Non-Members.<br />\n&nbsp\;
LOCATION:Southaven Chamber of Commerce 500 Main St Southaven\, MS 38671
UID:e.512.17157
SEQUENCE:3
DTSTAMP:20260421T193902Z
URL:https://southavenchamber-mosaic-gzcms.preview.gochambermaster.com/events/details/shra-2022-02-01-communication-strategies-in-a-multi-generational-workforce-17157
END:VEVENT

END:VCALENDAR
