BEGIN:VCALENDAR
VERSION:2.0
PRODID:-//ChamberMaster//Event Calendar 2.0//EN
METHOD:PUBLISH
X-PUBLISHED-TTL:P3D
REFRESH-INTERVAL:P3D
CALSCALE:GREGORIAN
BEGIN:VEVENT
DTSTART;VALUE=DATE:20181124
DTEND;VALUE=DATE:20181125
TRANSP:TRANSPARENT
X-MICROSOFT-CDO-ALLDAYEVENT:TRUE
SUMMARY:Shop Small Business Saturday
DESCRIPTION:Don't forget to Shop Small around Southaven on November 24th! We have a lot of small bussiness in our city that are great places to stop for Christmas gifts!
X-ALT-DESC;FMTTYPE=text/html:Don&#39\;t forget to Shop Small around Southaven on November 24th! We have a lot of small bussiness in our city that are great places to stop for Christmas gifts!&nbsp\;
LOCATION:
UID:e.512.11598
SEQUENCE:3
DTSTAMP:20260425T035420Z
URL:https://southavenchamber-mosaic-gzcms.preview.gochambermaster.com/events/details/shop-small-business-saturday-11598
END:VEVENT

END:VCALENDAR
