BEGIN:VCALENDAR
VERSION:2.0
PRODID:-//ChamberMaster//Event Calendar 2.0//EN
METHOD:PUBLISH
X-PUBLISHED-TTL:P3D
REFRESH-INTERVAL:P3D
CALSCALE:GREGORIAN
BEGIN:VEVENT
DTSTART:20190629T133000Z
DTEND:20190629T180000Z
X-MICROSOFT-CDO-ALLDAYEVENT:FALSE
SUMMARY:SECURITY CONFERENCE
DESCRIPTION:Recent events continue to make us hyper-aware of the need to be prepared for attacks against all Houses of Worship\, regardless of faith\, denomination\, size or location. This conference will provide resources to help you fine-tune your safety and security plan. **This conference is not limited to churches only\, this information is applicable and vital to all organizations or businesses** \n\n\n\nFeatured Speakers Include:\n\nCarl Chinn - President of the Faith Based Security Network\n\nAmy Weirich - Shelby County District Attorney\n\nDerrick Anderson - Executive Pastor\, Brown Missionary Baptist Church\n\nToney Armstrong - Former Memphis Police Director
X-ALT-DESC;FMTTYPE=text/html:<span style="color:rgb(29\, 33\, 41)\; font-family:helvetica\,arial\,sans-serif\; font-size:14px">Recent events continue to make us hyper-aware of the need to be prepared for attacks against all Houses of Worship\, regardless of faith\, denomination\, size or location. This conference will provide resources to help you fine-tune your safety and security plan.</span><u style="color: rgb(29\, 33\, 41)\; font-family: helvetica\, arial\, sans-serif\; font-size: 14px\;"><strong>&nbsp\;**This conference is not limited to churches only\, this information is applicable and vital to all organizations or businesses**&nbsp\;</strong></u><br />\n<br />\n<span style="color:rgb(29\, 33\, 41)\; font-family:helvetica\,arial\,sans-serif\; font-size:14px">Featured Speakers Include:</span><br />\n<span style="color:rgb(29\, 33\, 41)\; font-family:helvetica\,arial\,sans-serif\; font-size:14px">Carl Chinn - President of the Faith Based Security Network</span><br />\n<span style="color:rgb(29\, 33\, 41)\; font-family:helvetica\,arial\,sans-serif\; font-size:14px">Amy Weirich - Shelby County District Attorney</span><br />\n<span style="color:rgb(29\, 33\, 41)\; font-family:helvetica\,arial\,sans-serif\; font-size:14px">Derrick Anderson - Executive Pastor\, Brown Missionary Baptist Church</span><br />\n<span style="color:rgb(29\, 33\, 41)\; font-family:helvetica\,arial\,sans-serif\; font-size:14px">Toney Armstrong - Former Memphis Police Director</span><br />\n<br />\n&nbsp\;
LOCATION:Brown Missionary Baptist Church South Campus Gym 7200 Swinnea Road Southaven\, Mississippi
UID:e.512.12459
SEQUENCE:3
DTSTAMP:20260424T163514Z
URL:https://southavenchamber-mosaic-gzcms.preview.gochambermaster.com/events/details/security-conference-12459
END:VEVENT

END:VCALENDAR
