BEGIN:VCALENDAR
VERSION:2.0
PRODID:-//ChamberMaster//Event Calendar 2.0//EN
METHOD:PUBLISH
X-PUBLISHED-TTL:P3D
REFRESH-INTERVAL:P3D
CALSCALE:GREGORIAN
BEGIN:VEVENT
DTSTART:20171203T010000Z
DTEND:20171203T033000Z
X-MICROSOFT-CDO-ALLDAYEVENT:FALSE
SUMMARY:Star Wars Night at the RiverKings!
DESCRIPTION:Come cheer on your RiverKings as they take on the Roanoke Rail Yard Dawgs! This is also our Star Wars night and will be complete with an appearance from the 501st Legion\n\n\n\nCall 662-342-1755 for Groups (10+)
X-ALT-DESC;FMTTYPE=text/html:<span style="font-family:lato\,arial\,helvetica\,sans-serif\; font-size:16px">Come cheer on your RiverKings as they take on the Roanoke Rail Yard Dawgs! This is also our Star Wars night and will be complete with an appearance from the 501st Legion<br />\n<br />\nCall 662-342-1755 for Groups (10+)</span>
LOCATION:Landers Center 4560 Venture Dr. Southaven\, MS 38671
UID:e.512.3280
SEQUENCE:3
DTSTAMP:20260426T031705Z
URL:https://southavenchamber-mosaic-gzcms.preview.gochambermaster.com/events/details/riverkings-vs-roanoke-3280
END:VEVENT

END:VCALENDAR
