BEGIN:VCALENDAR
VERSION:2.0
PRODID:-//ChamberMaster//Event Calendar 2.0//EN
METHOD:PUBLISH
X-PUBLISHED-TTL:P3D
REFRESH-INTERVAL:P3D
CALSCALE:GREGORIAN
BEGIN:VEVENT
DTSTART:20180127T010000Z
DTEND:20180127T040000Z
X-MICROSOFT-CDO-ALLDAYEVENT:FALSE
SUMMARY:RiverKings Vs. Knoxville
DESCRIPTION:Come cheer on the RiverKings as they take on the Knoxville Icebears in their 4th matchup of the season!
X-ALT-DESC;FMTTYPE=text/html:Come cheer on the RiverKings as they take on the Knoxville Icebears in their 4th matchup of the season!&nbsp\;
LOCATION:Landers Center 4560 Venture Dr. Southaven\, MS 38671
UID:e.512.6637
SEQUENCE:3
DTSTAMP:20260426T020128Z
URL:https://southavenchamber-mosaic-gzcms.preview.gochambermaster.com/events/details/riverkings-vs-knoxville-01-25-2018-6637
END:VEVENT

END:VCALENDAR
