BEGIN:VCALENDAR
VERSION:2.0
PRODID:-//ChamberMaster//Event Calendar 2.0//EN
METHOD:PUBLISH
X-PUBLISHED-TTL:P3D
REFRESH-INTERVAL:P3D
CALSCALE:GREGORIAN
BEGIN:VEVENT
DTSTART:20190319T200000Z
DTEND:20190319T213000Z
X-MICROSOFT-CDO-ALLDAYEVENT:FALSE
SUMMARY:RIBBON CUTTING - TOWNEPLACE SUITES
DESCRIPTION:Please join us in welcoming our newest hotel in Southaven to the Chamber!
X-ALT-DESC;FMTTYPE=text/html:Please join us in welcoming our newest hotel in Southaven to the Chamber!
LOCATION:TownePlace Suites 7191 Sleepy Hollow Drive Southaven\, MS
UID:e.512.12313
SEQUENCE:3
DTSTAMP:20260424T212655Z
URL:https://southavenchamber-mosaic-gzcms.preview.gochambermaster.com/events/details/ribbon-cutting-towneplace-suites-12313
END:VEVENT

END:VCALENDAR
