BEGIN:VCALENDAR
VERSION:2.0
PRODID:-//ChamberMaster//Event Calendar 2.0//EN
METHOD:PUBLISH
X-PUBLISHED-TTL:P3D
REFRESH-INTERVAL:P3D
CALSCALE:GREGORIAN
BEGIN:VEVENT
DTSTART:20211207T203000Z
DTEND:20211207T213000Z
X-MICROSOFT-CDO-ALLDAYEVENT:FALSE
SUMMARY:Ribbon Cutting - Top Shelf Grill\, Sushi Now\, LLC\, I Need Coffee\, and Guardian Title
DESCRIPTION:Ribbon Cutting\, 2:30PM\, Top Shelf Grill/Sushi Now\, LLC/I Need Coffee/Guardian Title\, 6080 Getwell Rd.\, Ste 400\, Southaven\, MS 38672: Come join us as we welcome Top Shelf Grill\, Sushi Now\, LLC\, and I Need Coffee to the Chamber! First\, we will cut a ribbon downstairs at Sushi Now\, LLC/I Need Coffee/Guardian Title then followed by going to the rooftop to cut a ribbon for Top Shelf Grill. They recently just installed an atrium\, so you are able to enjoy outdoor seating during the colder months. Hope to see you there!
X-ALT-DESC;FMTTYPE=text/html:<strong><span style="color:black\;"><span style="font-family:tahoma\,sans-serif\;"><span style="font-size:16.0pt\;">Ribbon Cutting\, 2:30PM\, Top Shelf Grill/Sushi Now\, LLC/I Need Coffee/Guardian Title\, 6080 Getwell Rd.\, Ste 400\, Southaven\, MS 38672: </span></span></span></strong><span style="font-family:tahoma\,sans-serif\;"><span style="font-size:16.0pt\;">Come join us as we welcome Top Shelf Grill\, Sushi Now\, LLC\, and I Need Coffee to the Chamber! First\, we will cut a ribbon downstairs at Sushi Now\, LLC/I Need Coffee/Guardian Title then followed by going to the rooftop to cut a ribbon for Top Shelf Grill. They recently just installed an atrium\, so you are able to enjoy outdoor seating during the colder months. Hope to see you there!</span></span>
LOCATION:Top Shelf Grill 6080 Getwell Rd.\, Ste 400 Southaven\, MS 38672
UID:e.512.17131
SEQUENCE:3
DTSTAMP:20260422T035527Z
URL:https://southavenchamber-mosaic-gzcms.preview.gochambermaster.com/events/details/ribbon-cutting-top-shelf-grill-sushi-now-llc-i-need-coffee-and-guardian-title-17131
END:VEVENT

END:VCALENDAR
