BEGIN:VCALENDAR
VERSION:2.0
PRODID:-//ChamberMaster//Event Calendar 2.0//EN
METHOD:PUBLISH
X-PUBLISHED-TTL:P3D
REFRESH-INTERVAL:P3D
CALSCALE:GREGORIAN
BEGIN:VEVENT
DTSTART:20220330T160000Z
DTEND:20220330T170000Z
X-MICROSOFT-CDO-ALLDAYEVENT:FALSE
SUMMARY:Ribbon Cutting - TLC VIP
DESCRIPTION:Ribbon Cutting\, 11AM\, 2610 Panola St.\, Hernando\, MS 38632: Help us welcome our new member TLC VIP by attending their ribbon cutting! They help mentor individuals with lifestyle changes in all areas of life. While listening to your needs\, they are able to identify ways to support you through any lifestyle changes you may want to make such as mental clarity\, weight loss\, better health.
X-ALT-DESC;FMTTYPE=text/html:<strong><span style="font-family:tahoma\,sans-serif\;"><span style="font-size:16.0pt\;">Ribbon Cutting\, 11AM\, 2610 Panola St.\, Hernando\, MS 38632: </span></span></strong><span style="font-family:tahoma\,sans-serif\;"><span style="font-size:16.0pt\;">Help us welcome our new member TLC VIP by attending their ribbon cutting! They help mentor individuals with lifestyle changes in all areas of life. While listening to your needs\, they are able to identify ways to support you through any lifestyle changes you may want to make such as mental clarity\, weight loss\, better health.</span></span>
LOCATION:
UID:e.512.17217
SEQUENCE:3
DTSTAMP:20260421T180742Z
URL:https://southavenchamber-mosaic-gzcms.preview.gochambermaster.com/events/details/ribbon-cutting-tlc-vip-17217
END:VEVENT

END:VCALENDAR
