BEGIN:VCALENDAR
VERSION:2.0
PRODID:-//ChamberMaster//Event Calendar 2.0//EN
METHOD:PUBLISH
X-PUBLISHED-TTL:P3D
REFRESH-INTERVAL:P3D
CALSCALE:GREGORIAN
BEGIN:VEVENT
DTSTART:20200130T200000Z
DTEND:20200130T210000Z
X-MICROSOFT-CDO-ALLDAYEVENT:FALSE
SUMMARY:Ribbon Cutting - The Washington Law Firm
DESCRIPTION:Please join us in welcoming The Washington Law Firm to the Southaven Chamber. Victoria Washington is an attorney that is passionate about people. We hope to see you there!
X-ALT-DESC;FMTTYPE=text/html:<span style="font-size:14px\;"><span style="font-family:verdana\;">Please join us in welcoming The Washington Law Firm to the Southaven Chamber. Victoria Washington is an attorney that is passionate about people. We hope to see you there!</span></span>
LOCATION:8869 Centre St. Ste D Southaven\, MS 38671
UID:e.512.15980
SEQUENCE:3
DTSTAMP:20260424T030132Z
URL:https://southavenchamber-mosaic-gzcms.preview.gochambermaster.com/events/details/ribbon-cutting-the-washington-law-firm-15980
END:VEVENT

END:VCALENDAR
