BEGIN:VCALENDAR
VERSION:2.0
PRODID:-//ChamberMaster//Event Calendar 2.0//EN
METHOD:PUBLISH
X-PUBLISHED-TTL:P3D
REFRESH-INTERVAL:P3D
CALSCALE:GREGORIAN
BEGIN:VEVENT
DTSTART:20220114T180000Z
DTEND:20220114T190000Z
X-MICROSOFT-CDO-ALLDAYEVENT:FALSE
SUMMARY:Ribbon Cutting - The Chiro Place Southaven
DESCRIPTION:Ribbon Cutting\, 12PM\, The Chiro Place Southaven\, 1630 Goodman Rd.\, Ste 3\, Southaven\, MS 38671: We are eager to welcome The Chiro Place Southaven to the Chamber! Their mission is to help the communities they serve to live a more fulfilling life through the integration of Corrective and Wellness chiropractic care.
X-ALT-DESC;FMTTYPE=text/html:<strong><span style="color:black\;"><span style="font-family:tahoma\,sans-serif\;"><span style="font-size:16.0pt\;">Ribbon Cutting\, 12PM\, The Chiro Place Southaven\, 1630 Goodman Rd.\, Ste 3\, Southaven\, MS 38671:&nbsp\;</span></span></span></strong><span style="font-family:tahoma\,sans-serif\;"><span style="font-size:16.0pt\;">We are eager to welcome The Chiro Place Southaven to the Chamber! Their mission is to help the communities they serve to live a more fulfilling life through the integration of Corrective and Wellness chiropractic care.</span></span>
LOCATION:1630 Goodman Rd.\, Ste 3 Southaven\, MS 38671
UID:e.512.17115
SEQUENCE:3
DTSTAMP:20260421T224746Z
URL:https://southavenchamber-mosaic-gzcms.preview.gochambermaster.com/events/details/ribbon-cutting-the-chiro-place-southaven-17115
END:VEVENT

END:VCALENDAR
