BEGIN:VCALENDAR
VERSION:2.0
PRODID:-//ChamberMaster//Event Calendar 2.0//EN
METHOD:PUBLISH
X-PUBLISHED-TTL:P3D
REFRESH-INTERVAL:P3D
CALSCALE:GREGORIAN
BEGIN:VEVENT
DTSTART:20210630T163000Z
DTEND:20210630T173000Z
X-MICROSOFT-CDO-ALLDAYEVENT:FALSE
SUMMARY:Ribbon Cutting - Tabernacle Church of God In Christ
DESCRIPTION:Ribbon Cutting\, 11:30AM\, Tabernacle Church of God In Christ\, 7701 US Hwy 51\, Bldg #10\, Southaven\, MS 38671: Please join us for the Tabernacle Kingdom Community Center\, CDC's Ribbon Cutting. Their mission is to improve the quality of life for the residents of Southaven\, MS and the surrounding areas through programming that will foster greater economic opportunities\, motivate self-wellness\, and create educational and job opportunities while promoting senior citizen\, maternity\, and child care support.
X-ALT-DESC;FMTTYPE=text/html:<strong><span style="color:black\;"><span style="font-family:tahoma\,sans-serif\;"><span style="font-size:16.0pt\;">Ribbon Cutting\, 11:30AM\, Tabernacle Church of God In Christ\, 7701 US Hwy 51\, Bldg #10\, Southaven\, MS 38671: </span></span></span></strong><span style="font-family:tahoma\,sans-serif\;"><span style="font-size:16.0pt\;">Please join us for the Tabernacle Kingdom Community Center\, CDC&rsquo\;s Ribbon Cutting. Their mission is to improve the quality of life for the residents of Southaven\, MS and the surrounding areas through programming that will foster greater economic opportunities\, motivate self-wellness\, and create educational and job opportunities while promoting senior citizen\, maternity\, and child care support.</span></span>
LOCATION:Tabernacle Church of Christ in God 7701 US Hwy 51\, Bldg #10 Southaven\, MS 38671
UID:e.512.16846
SEQUENCE:3
DTSTAMP:20260422T202723Z
URL:https://southavenchamber-mosaic-gzcms.preview.gochambermaster.com/events/details/ribbon-cutting-tabernacle-church-of-god-in-christ-16846
END:VEVENT

END:VCALENDAR
