BEGIN:VCALENDAR
VERSION:2.0
PRODID:-//ChamberMaster//Event Calendar 2.0//EN
METHOD:PUBLISH
X-PUBLISHED-TTL:P3D
REFRESH-INTERVAL:P3D
CALSCALE:GREGORIAN
BEGIN:VEVENT
DTSTART:20230508T180000Z
DTEND:20230508T190000Z
X-MICROSOFT-CDO-ALLDAYEVENT:FALSE
SUMMARY:Ribbon Cutting - Southaven Honda
DESCRIPTION:Ribbon Cutting\, 1PM\, Southaven Honda\, 685 Goodman Rd. E\, Southaven\, MS 38671: We are excited to have Southaven Honda as a member of the chamber!  Certified Honda dealer serving drivers throughout Southaven and the surrounding areas. At the dealership\, you'll find a solid selection of new Honda for sale\, as well as a carefully inspected lineup of pre-owned vehicles. They also have a well-connected finance center \, a professional team of Honda technicians on hand with the skills and equipment to handle all manner of maintenance and repairs\, as well as a full stock of authentic parts. Make your way to Southaven Honda to meet the friendly team who will provide professional service every step of the way.  Join us to learn more and tour the new Dealership! We hope you can join us to welcome this new business to our chamber family and business community!
X-ALT-DESC;FMTTYPE=text/html:<strong><span style="color:#333333\;"><span style="font-family:tahoma\,sans-serif\;"><span style="font-size:16.0pt\;">Ribbon Cutting\, 1PM\, Southaven Honda\, 685 Goodman Rd. E\, Southaven\, MS 38671:&nbsp\;</span></span></span></strong><span style="color:#333333\;"><span style="font-family:tahoma\,sans-serif\;"><span style="font-size:16.0pt\;">We are excited to have Southaven Honda as a member of the chamber!&nbsp\;&nbsp\;Certified Honda dealer serving drivers throughout Southaven and the surrounding areas. At the dealership\, you&rsquo\;ll find a solid selection of new Honda for sale\, as well as a carefully inspected lineup of pre-owned vehicles. They also have a well-connected finance center</span></span></span> \, <span style="color:#333333\;"><span style="font-family:tahoma\,sans-serif\;"><span style="font-size:16.0pt\;">a professional team of Honda technicians on hand with the skills and equipment to handle all manner of maintenance and repairs\, as well as a full stock of authentic parts. Make your way to Southaven Honda to meet the friendly team who will provide professional service every step of the way. &nbsp\;Join us to learn more and tour the new Dealership! We hope you can join us to welcome this new business to our chamber family and business community! </span></span></span>
LOCATION:
UID:e.512.18552
SEQUENCE:3
DTSTAMP:20260420T034655Z
URL:https://southavenchamber-mosaic-gzcms.preview.gochambermaster.com/events/details/ribbon-cutting-southaven-honda-18552
END:VEVENT

END:VCALENDAR
