BEGIN:VCALENDAR
VERSION:2.0
PRODID:-//ChamberMaster//Event Calendar 2.0//EN
METHOD:PUBLISH
X-PUBLISHED-TTL:P3D
REFRESH-INTERVAL:P3D
CALSCALE:GREGORIAN
BEGIN:VEVENT
DTSTART:20171213T150000Z
DTEND:20171213T170000Z
X-MICROSOFT-CDO-ALLDAYEVENT:FALSE
SUMMARY:RIBBON CUTTING & Shred-it Day with Iron Mountain
DESCRIPTION:This is our second Shred-It day with IRON MOUNTAIN! We will have the Ribbon Cutting at 9am! Come and see all the great services they offer\, it's more than just shredding!
X-ALT-DESC;FMTTYPE=text/html:This is our second Shred-It day with IRON MOUNTAIN! We will have the Ribbon Cutting at 9am! Come and see all the great services they offer\, it&#39\;s more than just shredding!&nbsp\;
LOCATION:Southaven Chamber of Commerce 500 Main St Southaven\, MS 38671
UID:e.512.5628
SEQUENCE:3
DTSTAMP:20260426T031818Z
URL:https://southavenchamber-mosaic-gzcms.preview.gochambermaster.com/events/details/ribbon-cutting-shred-it-day-with-iron-mountain-5628
END:VEVENT

END:VCALENDAR
