BEGIN:VCALENDAR
VERSION:2.0
PRODID:-//ChamberMaster//Event Calendar 2.0//EN
METHOD:PUBLISH
X-PUBLISHED-TTL:P3D
REFRESH-INTERVAL:P3D
CALSCALE:GREGORIAN
BEGIN:VEVENT
DTSTART:20191204T180000Z
DTEND:20191204T190000Z
X-MICROSOFT-CDO-ALLDAYEVENT:FALSE
SUMMARY:RIBBON CUTTING - Select Title & Escrow\, LLC
DESCRIPTION:Description:Please join us in celebrating Select Title & Escrow's new location with a Ribbon Cutting on Wednesday\, December 4th at NOON! They have been in Southaven for many years\, but have moved into a new space and grown their team. Come meet their team\, have lunch\, and show your support for this local business owner. We hope to see you all there
X-ALT-DESC;FMTTYPE=text/html:<span class="ynRLnc" style="clip: rect(1px\, 1px\, 1px\, 1px)\; height: 1px\; overflow: hidden\; position: absolute\; white-space: nowrap\; width: 1px\; color: rgb(60\, 64\, 67)\; font-family: Roboto\, Arial\, sans-serif\; font-size: 14px\; letter-spacing: 0.2px\;">Description:</span><span style="color: rgb(60\, 64\, 67)\; font-family: Roboto\, Arial\, sans-serif\; font-size: 14px\; letter-spacing: 0.2px\; white-space: pre-wrap\;">Please join us in celebrating Select Title &amp\; Escrow&rsquo\;s new location with a Ribbon Cutting on Wednesday\, December 4th at NOON! They have been in Southaven for many years\, but have moved into a new space and grown their team. Come meet their team\, have lunch\, and show your support for this local business owner. We hope to see you all there</span>
LOCATION:5740 Getwell Rd Bldg 8A\, Southaven\, MS 38672
UID:e.512.15834
SEQUENCE:3
DTSTAMP:20260424T055316Z
URL:https://southavenchamber-mosaic-gzcms.preview.gochambermaster.com/events/details/ribbon-cutting-select-title-escrow-llc-15834
END:VEVENT

END:VCALENDAR
