BEGIN:VCALENDAR
VERSION:2.0
PRODID:-//ChamberMaster//Event Calendar 2.0//EN
METHOD:PUBLISH
X-PUBLISHED-TTL:P3D
REFRESH-INTERVAL:P3D
CALSCALE:GREGORIAN
BEGIN:VEVENT
DTSTART:20220708T153000Z
DTEND:20220708T163000Z
X-MICROSOFT-CDO-ALLDAYEVENT:FALSE
SUMMARY:Ribbon Cutting - Sauced by Will Smith
DESCRIPTION:Ribbon Cutting\, 10:30AM\, Sauced by Will Smith\, 7090 Malco Blvd.\, Suite 113\, Southaven\, MS 38671: We are excited to welcome Sauced by Will Smith to the Chamber! Sauced is a restaurant with the area's best wings\, burgers\, fish\, and much more! They are the home of "The Garrick" sauce and even offers catering. We hope you can join us for this celebration event!
X-ALT-DESC;FMTTYPE=text/html:<strong><span style="font-family:tahoma\,sans-serif\;"><span style="font-size:16.0pt\;">Ribbon Cutting\, 10:30AM\, Sauced by Will Smith\, 7090 Malco Blvd.\, Suite 113\, Southaven\, MS 38671:&nbsp\;</span></span></strong><span style="font-family:tahoma\,sans-serif\;"><span style="font-size:16.0pt\;">We are excited to welcome Sauced by Will Smith to the Chamber!&nbsp\;Sauced is a restaurant with the&nbsp\;area&rsquo\;s best wings\, burgers\, fish\, and much more!&nbsp\;They are the home of &quot\;The Garrick&quot\; sauce and even offers catering.&nbsp\;We hope you can join us for this celebration event!</span></span>
LOCATION:Sauced by Will Smith 7090 Malco\, Blvd.\, Suite 113 Southaven\, MS 38671
UID:e.512.17316
SEQUENCE:3
DTSTAMP:20260421T061436Z
URL:https://southavenchamber-mosaic-gzcms.preview.gochambermaster.com/events/details/ribbon-cutting-sauced-by-will-smith-17316
END:VEVENT

END:VCALENDAR
