BEGIN:VCALENDAR
VERSION:2.0
PRODID:-//ChamberMaster//Event Calendar 2.0//EN
METHOD:PUBLISH
X-PUBLISHED-TTL:P3D
REFRESH-INTERVAL:P3D
CALSCALE:GREGORIAN
BEGIN:VEVENT
DTSTART:20190716T150000Z
DTEND:20190716T170000Z
X-MICROSOFT-CDO-ALLDAYEVENT:FALSE
SUMMARY:RIBBON CUTTING: Saki Endless Sushi and Hibachi
DESCRIPTION:Please join us in welcoming a new restaurant to Southaven and to the Chamber! Saki Endless Sushi and Hibachi offers a new affordable way for all you can eat Sushi! We hope you make plans to stay and join us for lunch\, please ask a co-worker or client to meet you there so we can show this small business our support. \n\nWe look forward to welcoming them to the business community and ask everyone to come out and meet SaSa Lan and her staff.
X-ALT-DESC;FMTTYPE=text/html:<span style="font-family:arial\;"><span style="font-size:12.0pt\;">Please join us in welcoming a new restaurant to Southaven and to the Chamber! Saki Endless Sushi and Hibachi offers a new affordable way for all you can eat Sushi! We hope you make plans to stay and join us for lunch\, please ask a co-worker or client to meet you there so we can show this small business our support. </span><br />\n<span style="font-size:12.0pt\;">We look forward to welcoming them to the business community and ask everyone to come out and meet SaSa Lan and her staff. </span></span>
LOCATION:1055 Goodman Rd. Ste F. Southaven\, MS
UID:e.512.12482
SEQUENCE:3
DTSTAMP:20260424T135018Z
URL:https://southavenchamber-mosaic-gzcms.preview.gochambermaster.com/events/details/ribbon-cutting-saki-endless-sushi-and-hibachi-12482
END:VEVENT

END:VCALENDAR
