BEGIN:VCALENDAR
VERSION:2.0
PRODID:-//ChamberMaster//Event Calendar 2.0//EN
METHOD:PUBLISH
X-PUBLISHED-TTL:P3D
REFRESH-INTERVAL:P3D
CALSCALE:GREGORIAN
BEGIN:VEVENT
DTSTART:20210316T163000Z
DTEND:20210316T173000Z
X-MICROSOFT-CDO-ALLDAYEVENT:FALSE
SUMMARY:RIBBON CUTTING - Red Hook Cajun Seafood Restaurant
DESCRIPTION:Please join us in welcoming the newest seafood restaurant to Southaven!
X-ALT-DESC;FMTTYPE=text/html:Please join us in welcoming the newest seafood restaurant to Southaven!&nbsp\;
LOCATION:7065 Airways Blvd.\, Southaven\, MS 38671
UID:e.512.16592
SEQUENCE:3
DTSTAMP:20260422T235647Z
URL:https://southavenchamber-mosaic-gzcms.preview.gochambermaster.com/events/details/ribbon-cutting-red-hook-cajun-seafood-restaurant-16592
END:VEVENT

END:VCALENDAR
