BEGIN:VCALENDAR
VERSION:2.0
PRODID:-//ChamberMaster//Event Calendar 2.0//EN
METHOD:PUBLISH
X-PUBLISHED-TTL:P3D
REFRESH-INTERVAL:P3D
CALSCALE:GREGORIAN
BEGIN:VEVENT
DTSTART:20220916T200000Z
DTEND:20220916T210000Z
X-MICROSOFT-CDO-ALLDAYEVENT:FALSE
SUMMARY:Ribbon Cutting- Psycamore
DESCRIPTION:Ribbon Cutting\, 3:00PM\, Psycamore \, 7165 Getwell Road\n\nSouthaven\, MS 38672: We are excited to celebrate with Psycamore on their newly renovated office! This is a join ribbon cutting with our neighbors\, the Horn Lake Chamber of Commerce. Psycamore's comprehensive services begin the moment a person enters their doors. From free mental health screening\, then guidance of experienced clinicians\, and finishing with a plan for continued care at the completion of your time at Psycamore they are with you for every step of the journey. Restoring health and Renewing hope is their goal. We hope you can join us for this celebration event!
X-ALT-DESC;FMTTYPE=text/html:<strong><span style="color:#333333\;"><span style="font-family:tahoma\,sans-serif\;"><span style="font-size:16.0pt\;">Ribbon Cutting\, 3:00PM\, Psycamore \, </span></span></span></strong><strong><span style="color:#333333\;"><span style="font-family:tahoma\,sans-serif\;"><span style="font-size:16.0pt\;">7165 Getwell Road<br />\nSouthaven\, MS 38672<strong><span style="font-family:tahoma\,sans-serif\;">:&nbsp\;</span></strong></span></span></span></strong><span style="color:#333333\;"><span style="font-family:tahoma\,sans-serif\;"><span style="font-size:16.0pt\;"><span style="font-variant-ligatures:normal\;font-variant-caps:normal\;orphans:2\;text-align:start\;widows:2\;-webkit-text-stroke-width:0px\;text-decoration-thickness:initial\;text-decoration-style:initial\;word-spacing:0px\;">We are excited to celebrate with Psycamore on their newly renovated office!&nbsp\;</span></span></span></span><span style="font-size: 16pt\; font-family: Tahoma\, sans-serif\;">This is a join ribbon cutting with our neighbors\, the Horn Lake Chamber of Commerce.</span><span style="color:#333333\;"><span style="font-family:tahoma\,sans-serif\;"><span style="font-size:16.0pt\;"> <span style="color:#333333\;"><span style="font-family:tahoma\,sans-serif\;"><span style="font-size:16.0pt\;">Psycamore&rsquo\;s comprehensive services begin the moment a person enters their doors. From free mental health screening\, then guidance of experienced clinicians\, and finishing with a plan for continued care at the completion of your time at Psycamore they are with you for every step of the journey. Restoring health and Renewing hope is their goal. We hope you can join us for this celebration event!</span></span></span></span></span></span>
LOCATION:
UID:e.512.17399
SEQUENCE:3
DTSTAMP:20260421T013625Z
URL:https://southavenchamber-mosaic-gzcms.preview.gochambermaster.com/events/details/ribbon-cutting-psycamore-17399
END:VEVENT

END:VCALENDAR
