BEGIN:VCALENDAR
VERSION:2.0
PRODID:-//ChamberMaster//Event Calendar 2.0//EN
METHOD:PUBLISH
X-PUBLISHED-TTL:P3D
REFRESH-INTERVAL:P3D
CALSCALE:GREGORIAN
BEGIN:VEVENT
DTSTART:20230816T210000Z
DTEND:20230816T220000Z
X-MICROSOFT-CDO-ALLDAYEVENT:FALSE
SUMMARY:Ribbon Cutting- Pro Health Clinic
DESCRIPTION:Ribbon Cutting\, 4PM\, Pro Health Clinic\, 6376 Silo Square Ln. N\, Ste. 104-105\, Southaven\, MS 38672: We are excited to celebrate with Pro Health Clinic in Silo Square on the opening of their new business. Pro Health Clinic holds the belief that the community needed a clinic offering both traditional and innovative wellness treatments under one roof just like in other big cities. Right now they are accomplishing this by providing IV hydration therapy\, testosterone replacement\, weight loss medications\, and the sinus cocktail shot among other popular services. Don't forget you can come to them for all of your sick visit needs as well. We invite you to come learn more and join us for this ribbon cutting celebration.
X-ALT-DESC;FMTTYPE=text/html:<strong><span style="color:#333333\;"><span style="font-family:tahoma\,sans-serif\;"><span style="font-size:16.0pt\;">Ribbon Cutting\,&nbsp\;4PM\, Pro Health Clinic\, 6376 Silo Square Ln. N\, Ste. 104-105\, Southaven\, MS 38672:&nbsp\;</span></span></span></strong><span style="color:#333333\;"><span style="font-family:tahoma\,sans-serif\;"><span style="font-size:16.0pt\;">We are excited to celebrate with Pro Health Clinic in Silo Square on the opening of their new business. Pro Health Clinic holds the belief that the community needed a clinic offering both traditional and innovative wellness treatments under one roof just like in other big cities. Right now they are accomplishing this by providing IV hydration therapy\, testosterone replacement\, weight loss medications\, and the sinus cocktail shot among other popular services. Don&rsquo\;t forget you can come to them for all of your sick visit needs as well. We invite you to come learn more and join us for this ribbon cutting celebration.</span></span></span>
LOCATION:
UID:e.512.18823
SEQUENCE:3
DTSTAMP:20260420T052103Z
URL:https://southavenchamber-mosaic-gzcms.preview.gochambermaster.com/events/details/ribbon-cutting-pro-health-clinic-18823
END:VEVENT

END:VCALENDAR
