BEGIN:VCALENDAR
VERSION:2.0
PRODID:-//ChamberMaster//Event Calendar 2.0//EN
METHOD:PUBLISH
X-PUBLISHED-TTL:P3D
REFRESH-INTERVAL:P3D
CALSCALE:GREGORIAN
BEGIN:VEVENT
DTSTART:20201023T140000Z
DTEND:20201023T150000Z
X-MICROSOFT-CDO-ALLDAYEVENT:FALSE
SUMMARY:RIBBON CUTTING - Plato's Closet
DESCRIPTION:Join us in welcoming Plato's Closet to the Southaven Chamber! They buy and sell trendy\, gently used\, name brand clothing\, shoes and accessories. \n\n \n\nWe hope to see you there!
X-ALT-DESC;FMTTYPE=text/html:<span style="color:black\;">Join us in welcoming Plato&rsquo\;s Closet to the Southaven Chamber! They buy and sell trendy\, gently used\, name brand clothing\, shoes and accessories. </span><br />\n&nbsp\;<br />\n<span style="color:black\;">We hope to see you there! </span><span style="color:black\;"><span style="font-family:segoe ui emoji\,sans-serif\;">&#128522\;</span></span> &nbsp\;
LOCATION:Plato's Closet 7090 Malco Blvd Ste 107 Southaven\, MS 38671
UID:e.512.16515
SEQUENCE:3
DTSTAMP:20260423T081653Z
URL:https://southavenchamber-mosaic-gzcms.preview.gochambermaster.com/events/details/ribbon-cutting-plato-s-closet-16515
END:VEVENT

END:VCALENDAR
