BEGIN:VCALENDAR
VERSION:2.0
PRODID:-//ChamberMaster//Event Calendar 2.0//EN
METHOD:PUBLISH
X-PUBLISHED-TTL:P3D
REFRESH-INTERVAL:P3D
CALSCALE:GREGORIAN
BEGIN:VEVENT
DTSTART:20220624T183000Z
DTEND:20220624T193000Z
X-MICROSOFT-CDO-ALLDAYEVENT:FALSE
SUMMARY:Ribbon Cutting- Pietrowski Law Practice
DESCRIPTION:Ribbon Cutting\, 1:30PM\, Pietrowski Law Practice\, 230 Goodman Rd. E\, Bldg 2\, Ste 100\, Southaven\, MS 38671: Help us welcome Pietrowski Law Practice as one of our newest members by attending their ribbon cutting! We are excited to hear their story and mission. Attorney Amy Pietrowksi has a wealth of experience and knowledge to draw on when representing your case and understands and can fully empathize with your legal and emotional issues. Hope to see you there!
X-ALT-DESC;FMTTYPE=text/html:<strong><span style="font-family:tahoma\,sans-serif\;"><span style="font-size:16.0pt\;">Ribbon Cutting\, 1:30PM\, Pietrowski Law Practice\, 230 Goodman Rd. E\, Bldg 2\, Ste 100\, Southaven\, MS 38671:&nbsp\;</span></span></strong><span style="font-family:tahoma\,sans-serif\;"><span style="font-size:16.0pt\;">Help us welcome Pietrowski Law Practice as one of our newest members by attending their ribbon cutting! We are excited to hear their story and mission. Attorney Amy Pietrowksi has a wealth of experience and knowledge to draw on when representing your case and understands and can fully empathize with your legal and emotional issues. Hope to see you there!</span></span>
LOCATION:
UID:e.512.17277
SEQUENCE:3
DTSTAMP:20260421T160731Z
URL:https://southavenchamber-mosaic-gzcms.preview.gochambermaster.com/events/details/ribbon-cutting-pietrowski-law-practice-17277
END:VEVENT

END:VCALENDAR
