BEGIN:VCALENDAR
VERSION:2.0
PRODID:-//ChamberMaster//Event Calendar 2.0//EN
METHOD:PUBLISH
X-PUBLISHED-TTL:P3D
REFRESH-INTERVAL:P3D
CALSCALE:GREGORIAN
BEGIN:VEVENT
DTSTART:20190228T210000Z
DTEND:20190228T230000Z
X-MICROSOFT-CDO-ALLDAYEVENT:FALSE
SUMMARY:Ribbon Cutting/Open House: Women's Clinic at the Grove
DESCRIPTION:Please join us in celebrating a new business in Southaven!  Deborah Verucchi and Jenny Fredrickson have opened a women's clinic on Getwell called Women's Clinic at the Grove. Open House is 3:00-5:00pm. We will cut the ribbon at 3:30 pm on Thursday\, Feb 28\, 2019. Please make plans to be there to support this new business!
X-ALT-DESC;FMTTYPE=text/html:<p style="margin: 0px 0px 8px\;"><span style="font-family:arial\;"><font color="#000000" size="3">Please join us in celebrating a new business in Southaven!&nbsp\; Deborah Verucchi and Jenny Fredrickson have&nbsp\;opened a women&rsquo\;s clinic on Getwell called Women&rsquo\;s Clinic at the Grove. Open House is 3:00-5:00pm. We will cut the ribbon at 3:30 pm on Thursday\, Feb 28\, 2019. Please make plans to be there to support this new business!</font></span></p>\n
LOCATION:5740 Getwell Rd Bldg 1 Ste B\, Southaven\, MS 38672
UID:e.512.12308
SEQUENCE:3
DTSTAMP:20260424T224319Z
URL:https://southavenchamber-mosaic-gzcms.preview.gochambermaster.com/events/details/ribbon-cutting-open-house-women-s-clinic-at-the-grove-12308
END:VEVENT

END:VCALENDAR
