BEGIN:VCALENDAR
VERSION:2.0
PRODID:-//ChamberMaster//Event Calendar 2.0//EN
METHOD:PUBLISH
X-PUBLISHED-TTL:P3D
REFRESH-INTERVAL:P3D
CALSCALE:GREGORIAN
BEGIN:VEVENT
DTSTART:20191004T160000Z
DTEND:20191004T173000Z
X-MICROSOFT-CDO-ALLDAYEVENT:FALSE
SUMMARY:RIBBON CUTTING - Northwest Church of Christ
DESCRIPTION:Please join us in celebrating growth and expansion for Northwest Church of Christ into their new facility on Brookhaven Drive! We would like for you to invite someone to meet you there and please come support the Southaven community in growing and reaching others. We hope to see you all there!
X-ALT-DESC;FMTTYPE=text/html:<p class="MsoNormal"><span style="font-size:12.0pt\;mso-bidi-font-size:11.0pt\;\nfont-family:&quot\;Century Gothic&quot\;\,sans-serif">Please join us in celebrating growth and expansion for Northwest Church of Christ into their new facility on Brookhaven Drive! We would like for you to invite someone to meet you there and please come support the Southaven community in growing and reaching others. We hope to see you all there!&nbsp\;<o:p></o:p></span></p>\n
LOCATION:New location of Northwest Church of Christ\, 1483 Brookhaven Drive\, Southaven\, MS
UID:e.512.15625
SEQUENCE:3
DTSTAMP:20260424T123507Z
URL:https://southavenchamber-mosaic-gzcms.preview.gochambermaster.com/events/details/ribbon-cutting-northwest-church-of-christ-15625
END:VEVENT

END:VCALENDAR
