BEGIN:VCALENDAR
VERSION:2.0
PRODID:-//ChamberMaster//Event Calendar 2.0//EN
METHOD:PUBLISH
X-PUBLISHED-TTL:P3D
REFRESH-INTERVAL:P3D
CALSCALE:GREGORIAN
BEGIN:VEVENT
DTSTART:20220830T150000Z
DTEND:20220830T160000Z
X-MICROSOFT-CDO-ALLDAYEVENT:FALSE
SUMMARY:Ribbon Cutting - New York Life
DESCRIPTION:Ribbon Cutting\, 10AM\, Southaven Chamber of Commerce\, 500 Main St.\, Southaven\, MS 38671: We are excited to welcome Emanuel Castelan with New York Life to the Chamber! New York Life is one of America's largest mutual life insurance companies. New York Life and its subsidiaries provide insurance\, investment and retirement solutions. For over 175 years\, they've been helping people put their love into action. You are invited to come learn more. We hope you can join us for this celebration event!
X-ALT-DESC;FMTTYPE=text/html:<strong><span style="color:#333333\;"><span style="font-family:tahoma\,sans-serif\;"><span style="font-size:16.0pt\;">Ribbon Cutting\, 10AM\, Southaven Chamber of Commerce\, 500 Main St.\, Southaven\, MS 38671:&nbsp\;</span></span></span></strong><span style="color:#333333\;"><span style="font-family:tahoma\,sans-serif\;"><span style="font-size:16.0pt\;">We are excited to welcome Emanuel Castelan with New York Life to the Chamber! New York Life is one of America&#39\;s largest mutual life insurance companies. New York Life and its subsidiaries provide insurance\, investment and retirement solutions. For over 175 years\, they&#39\;ve been helping people put their love into action. You are invited to come learn more. We hope you can join us for this celebration event!</span></span></span>
LOCATION:
UID:e.512.17343
SEQUENCE:3
DTSTAMP:20260421T030739Z
URL:https://southavenchamber-mosaic-gzcms.preview.gochambermaster.com/events/details/ribbon-cutting-new-york-life-17343
END:VEVENT

END:VCALENDAR
