BEGIN:VCALENDAR
VERSION:2.0
PRODID:-//ChamberMaster//Event Calendar 2.0//EN
METHOD:PUBLISH
X-PUBLISHED-TTL:P3D
REFRESH-INTERVAL:P3D
CALSCALE:GREGORIAN
BEGIN:VEVENT
DTSTART:20230719T140000Z
DTEND:20230719T150000Z
X-MICROSOFT-CDO-ALLDAYEVENT:FALSE
SUMMARY:Ribbon Cutting- MOGA Southaven
DESCRIPTION:Ribbon Cutting\, 9AM\, Memphis OB/GYN Association\, 7628 Airways Blvd.\, Southaven\, MS 38671: We are excited to celebrate with one of our long time members! The growth and success of MOGA Southaven has led them to build and move to a beautiful new facility to better serve patients. We hope you can join us!
X-ALT-DESC;FMTTYPE=text/html:<strong><span style="color:#333333\;"><span style="font-family:tahoma\,sans-serif\;"><span style="font-size:16.0pt\;">Ribbon Cutting\, 9AM\, Memphis OB/GYN Association\, 7628 Airways Blvd.\, Southaven\, MS 38671: </span></span></span></strong><span style="color:#333333\;"><span style="font-family:tahoma\,sans-serif\;"><span style="font-size:16.0pt\;">We are excited to celebrate with one of our long time members! The growth and success of MOGA Southaven has led them to build and move to a beautiful new facility to better serve patients.&nbsp\;</span></span></span><span style="color:#333333\;"><span style="font-family:tahoma\,sans-serif\;"><span style="font-size:16.0pt\;">We hope you can join us!</span></span></span>
LOCATION:
UID:e.512.18601
SEQUENCE:3
DTSTAMP:20260419T225115Z
URL:https://southavenchamber-mosaic-gzcms.preview.gochambermaster.com/events/details/ribbon-cutting-moga-southaven-18601
END:VEVENT

END:VCALENDAR
