BEGIN:VCALENDAR
VERSION:2.0
PRODID:-//ChamberMaster//Event Calendar 2.0//EN
METHOD:PUBLISH
X-PUBLISHED-TTL:P3D
REFRESH-INTERVAL:P3D
CALSCALE:GREGORIAN
BEGIN:VEVENT
DTSTART:20200304T210000Z
DTEND:20200304T220000Z
X-MICROSOFT-CDO-ALLDAYEVENT:FALSE
SUMMARY:Ribbon Cutting - Mid South Screen Printing & Embroidery
DESCRIPTION:Come out and support a new chamber member!
X-ALT-DESC;FMTTYPE=text/html:Come out and support a new chamber member!&nbsp\;
LOCATION:6515 Cockrum Olive Branch\, MS 38654
UID:e.512.15894
SEQUENCE:3
DTSTAMP:20260423T224821Z
URL:https://southavenchamber-mosaic-gzcms.preview.gochambermaster.com/events/details/ribbon-cutting-mid-south-screen-printing-embroidery-15894
END:VEVENT

END:VCALENDAR
