BEGIN:VCALENDAR
VERSION:2.0
PRODID:-//ChamberMaster//Event Calendar 2.0//EN
METHOD:PUBLISH
X-PUBLISHED-TTL:P3D
REFRESH-INTERVAL:P3D
CALSCALE:GREGORIAN
BEGIN:VEVENT
DTSTART:20210920T193000Z
DTEND:20210920T203000Z
X-MICROSOFT-CDO-ALLDAYEVENT:FALSE
SUMMARY:Ribbon Cutting - Humana - Clayt Gates
DESCRIPTION:Ribbon Cutting\, 2:30PM\, Southaven Chamber of Commerce\, 500 Main Street\, Southaven\, MS 38671: We are excited to welcome Humana   Clayt Gates to the Chamber! Humana is doing a Ribbon Cutting to introduce their new regional representative\, Clayt Gates to the business community here in Southaven. Please make plans to attend and welcome Clayt to Southaven!
X-ALT-DESC;FMTTYPE=text/html:<strong><span style="color:black\;"><span style="font-family:tahoma\,sans-serif\;"><span style="font-size:16.0pt\;">Ribbon Cutting\, 2:30PM\, Southaven Chamber of Commerce\, 500 Main Street\, Southaven\, MS 38671: </span></span></span></strong><span style="font-family:tahoma\,sans-serif\;"><span style="font-size:16.0pt\;">We are excited to welcome Humana &ndash\; Clayt Gates to the Chamber! Humana is doing a Ribbon Cutting to introduce their new regional representative\, Clayt Gates to the business community here in Southaven. Please make plans to attend and welcome Clayt to Southaven!</span></span>
LOCATION:Southaven Chamber of Commerce 500 Mains Street Southaven\, MS 38671
UID:e.512.17083
SEQUENCE:3
DTSTAMP:20260422T111436Z
URL:https://southavenchamber-mosaic-gzcms.preview.gochambermaster.com/events/details/ribbon-cutting-humana-clayt-gates-17083
END:VEVENT

END:VCALENDAR
