BEGIN:VCALENDAR
VERSION:2.0
PRODID:-//ChamberMaster//Event Calendar 2.0//EN
METHOD:PUBLISH
X-PUBLISHED-TTL:P3D
REFRESH-INTERVAL:P3D
CALSCALE:GREGORIAN
BEGIN:VEVENT
DTSTART:20220823T150000Z
DTEND:20220823T160000Z
X-MICROSOFT-CDO-ALLDAYEVENT:FALSE
SUMMARY:Ribbon Cutting- Groove Nutrition
DESCRIPTION:Ribbon Cutting\, 10AM\, Groove Nutrition\, 1140 Church Rd. W\, Southaven\, MS 38671: We are excited to welcome Groove Nutrition to the Chamber! Get your Groove on with their delicious and healthy loaded teas and meal shakes! Loaded tea benefits include Vitamin C\, B6\, B12 for energy and immune support. Ginseng and Guarana provide focus and mental alertness. Other add-ins like aloe will aid your digestion\, and green tea offers a metabolism boost. They are only 24 calories and sugar free! Their shakes are a delicious complete meal replacement with 114 nutrients\, 24g of protein and only 200 calories. Hope to see you there!
X-ALT-DESC;FMTTYPE=text/html:<strong><span style="color:#333333\;"><span style="font-family:tahoma\,sans-serif\;"><span style="font-size:16.0pt\;">Ribbon Cutting\, 10AM\, Groove Nutrition\, 1140 Church Rd. W\, Southaven\, MS 38671:&nbsp\;</span></span></span></strong><span style="color:#333333\;"><span style="font-family:tahoma\,sans-serif\;"><span style="font-size:16.0pt\;">We are excited to welcome Groove Nutrition to the Chamber! Get your Groove on with their delicious and healthy loaded teas and meal shakes!&nbsp\;Loaded tea benefits include Vitamin C\, B6\, B12 for energy and immune support. Ginseng and Guarana provide focus and mental alertness. Other add-ins like aloe will aid your digestion\, and green tea offers a metabolism boost. They are only 24 calories and sugar free! Their shakes are a delicious complete meal replacement with 114 nutrients\, 24g of protein and only 200 calories. Hope to see you there!</span></span></span>
LOCATION:
UID:e.512.17369
SEQUENCE:3
DTSTAMP:20260421T015803Z
URL:https://southavenchamber-mosaic-gzcms.preview.gochambermaster.com/events/details/ribbon-cutting-groove-nutrition-17369
END:VEVENT

END:VCALENDAR
